BEGIN:VCALENDAR
PRODID:NingEventWidget-v1
VERSION:2.0
METHOD:PUBLISH
BEGIN:VTIMEZONE
TZID:Pacific/Midway
X-LIC-LOCATION:Pacific/Midway
BEGIN:STANDARD
TZOFFSETFROM:-1100
TZOFFSETTO:-1100
TZNAME:SST
DTSTART:19700101T000000
END:STANDARD
END:VTIMEZONE
BEGIN:VEVENT
UID:5072275:Event:627452
DTSTAMP:20260424T014926Z
SUMMARY:THE HOUSE OF PRAYER JUBILEE FESTIVAL & CAR SHOW, THOMASTON, GA
DESCRIPTION:THE HOUSE OF PRAYER BAPTIST CHURCH JUBILEE FESTIVAL FUND R
 AISER & CAR SHOW, HWY 19 NORTH JUST PAST 5 STAR TIRE & AUTO.  9AM TO 
 3PM. $20.00.  TOP 20, DOOR PRIZES AND FOOD.  FAMILY FESTIVITIES FROM
  9AM TO 6PM.\n\nFor more information visit https://www.southeastwheels
 events.com/events/the-house-of-prayer-jubilee-festival-car-show-thomas
 ton-ga
DTSTART;TZID=Pacific/Midway:20130518T090000
DTEND;TZID=Pacific/Midway:20130518T150000
CATEGORIES:fundraiser
LOCATION:JUST PAST 5 STAR TIRE & AUTO
WEBSITE:
URL:
CONTACT:706-741-2471
ORGANIZER:Teresa
ATTACH;FMTTYPE="image/jpeg":
ATTENDEE;ROLE=REQ-PARTICIPANT;PARTSTAT=ACCEPTED;RSVP=TRUE;CN="Robert S
 tevenson":https://www.southeastwheelsevents.com/profile/RobertStevenso
 n
END:VEVENT
END:VCALENDAR
