BEGIN:VCALENDAR
PRODID:NingEventWidget-v1
VERSION:2.0
METHOD:PUBLISH
BEGIN:VTIMEZONE
TZID:Pacific/Midway
X-LIC-LOCATION:Pacific/Midway
BEGIN:STANDARD
TZOFFSETFROM:-1100
TZOFFSETTO:-1100
TZNAME:SST
DTSTART:19700101T000000
END:STANDARD
END:VTIMEZONE
BEGIN:VEVENT
UID:5072275:Event:250620
DTSTAMP:20260423T052450Z
SUMMARY:The Junkyard -Atlanta, GA
DESCRIPTION:Junkyard will be LIVE @ the Basement Doors to the Graveyar
 d open @ 5pm & the Basement under the Graveyard in East Atlanta Villag
 e.\nDoors to the Graveyard open @ 5pm, & the Basement Music Venue open
 s @ 10pm.\nCome down to Atlanta's newest local music venue with a grea
 t room, awesome location, & killer food & drinks!\nListen in for passe
 s to be given away each week on Garage71!\n\nFor more information visi
 t https://www.southeastwheelsevents.com/events/the-junkyard-atlanta-ga
DTSTART;TZID=Pacific/Midway:20110520T200000
DTEND;TZID=Pacific/Midway:20110520T234500
CATEGORIES:garage71, party
LOCATION:Graveyard Tavern
WEBSITE:http://maps.google.com/maps?f=q&source=s_q&hl=en&geocode=&q=12
 45+Glenwood+Avenue,+Atlanta,+GA&aq=1&sll=33.755987,-84.370604&sspn=0.0
 75214,0.131664&ie=UTF8&hq=&hnear=1245+Glenwood+Ave+SE,+Atlanta,+DeKalb
 ,+Georgia+30316&z=16
URL:http://maps.google.com/maps?f=q&source=s_q&hl=en&geocode=&q=1245+G
 lenwood+Avenue,+Atlanta,+GA&aq=1&sll=33.755987,-84.370604&sspn=0.07521
 4,0.131664&ie=UTF8&hq=&hnear=1245+Glenwood+Ave+SE,+Atlanta,+DeKalb,+Ge
 orgia+30316&z=16
CONTACT:404.622.8686
ORGANIZER;CN="Garage71 and Grease Inc.":https://www.southeastwheelseve
 nts.com/profile/Garage71
ATTACH;FMTTYPE="image/jpeg":http://storage.ning.com/topology/rest/1.0/
 file/get/967595109?profile=original
ATTENDEE;ROLE=REQ-PARTICIPANT;PARTSTAT=ACCEPTED;RSVP=TRUE;CN="Garage71
  and Grease Inc.":https://www.southeastwheelsevents.com/profile/Garage
 71
END:VEVENT
END:VCALENDAR
