BEGIN:VCALENDAR
PRODID:NingEventWidget-v1
VERSION:2.0
METHOD:PUBLISH
BEGIN:VTIMEZONE
TZID:Pacific/Midway
X-LIC-LOCATION:Pacific/Midway
BEGIN:STANDARD
TZOFFSETFROM:-1100
TZOFFSETTO:-1100
TZNAME:SST
DTSTART:19700101T000000
END:STANDARD
END:VTIMEZONE
BEGIN:VEVENT
UID:5072275:Event:865386
DTSTAMP:20260424T022941Z
SUMMARY:The Lilly Bunns Ride 4 Life -Conyers, GA
DESCRIPTION:The Lilly Bunns Ride 4 Life will be held at Falcons Fury H
 arley in Conyers, Georgia on March 28th, 2015. \nLocation:\n-Falcons F
 ury Harley in Conyers, Georgia \n(900 Dogwood Drive E, Conyers, GA)\n
 \nRegistration:\n-Each rider is $25 and passenger is $15(includes shir
 t if you pre-register)\n-Pre-register at cota.donorpages.com/MiracleMa
 kers/TeamLillyB\n-Pre-registration ends March 19th.\n\nThis is our 2nd
  Annual Motorcycle Ride. This is a charity ride for COTA in honor of L
 illy Bunn. Lilly is a 2 year old that received a liver transplant in D
 ecember of 2013. Her body is now going into rejection of the new liver
 . She has to go monthly for IVIG infusions to boost her immune system.
  With all of these procedures come extensive costs. Even with medical 
 insurance, the out of pocket is around $50,000. We will have biker gam
 es, 50/50, silent auction, etc. There will be food, fun and entertainm
 ent.\n\nAll funds raised will go to COTA(Children's Organ Transplant A
 ssociation) in honor of Lilly Bunn. Donations are tax deductible to th
 e fullest extent of the law. \n\nEvent Hours:\n-Registration begins a
 t 9:00am\n-Kickstands up at 10:30am \n\nPlease Contact For More Infor
 mation:\n-(404) 597-9552\n-(770) 865-3527\n\nFor more information visi
 t https://www.southeastwheelsevents.com/events/the-lilly-bunns-ride-4-
 life-conyers-ga
DTSTART;TZID=Pacific/Midway:20150228T090000
DTEND;TZID=Pacific/Midway:20150228T180000
CATEGORIES:ride, fund, raiser
LOCATION:Falcons Fury Harley Davidson
WEBSITE:http://www.facebook.com/loveforlilly
URL:http://www.facebook.com/loveforlilly
CONTACT:cralphie82@gmail.com (404) 597-9552
ORGANIZER:Falcons Fury Harley
ATTACH;FMTTYPE="image/jpeg":http://storage.ning.com/topology/rest/1.0/
 file/get/967680094?profile=original
ATTENDEE;ROLE=REQ-PARTICIPANT;PARTSTAT=ACCEPTED;RSVP=TRUE;CN="Chuck Aa
 ron":https://www.southeastwheelsevents.com/profile/ChuckAaron
END:VEVENT
END:VCALENDAR
