BEGIN:VCALENDAR
PRODID:NingEventWidget-v1
VERSION:2.0
METHOD:PUBLISH
BEGIN:VTIMEZONE
TZID:Pacific/Midway
X-LIC-LOCATION:Pacific/Midway
BEGIN:STANDARD
TZOFFSETFROM:-1100
TZOFFSETTO:-1100
TZNAME:SST
DTSTART:19700101T000000
END:STANDARD
END:VTIMEZONE
BEGIN:VEVENT
UID:5072275:Event:203923
DTSTAMP:20260420T102611Z
SUMMARY:The Lodge at Copperhead, Blairsville, GA
DESCRIPTION: \nRegistration - 9 a.m.http://www.thelodgeatcopperhead.c
 om\n2nd%20Annual%20Car%20flyer.pdf\n2011%20Car%20Show%20Entry%20Form2.
 pdf\n\nGarage 71 with Brain Whitcomb will be there to spin the music a
 nd set the tone! Come on over for a great time!\n\nFor more informatio
 n visit https://www.southeastwheelsevents.com/events/the-lodge-at-copp
 erhead
DTSTART;TZID=Pacific/Midway:20110402T000000
DTEND;TZID=Pacific/Midway:20110402T160000
CATEGORIES:2nd, annual, car, "&", bike, show
LOCATION:The Lodge at Copperhead, 171 Copperhead Parkway, Blairsville,
  GA  30512
WEBSITE:http://www.thelodgeatcopperhead.com
URL:http://www.thelodgeatcopperhead.com
CONTACT:706-835-7433
ORGANIZER;CN="The Lodge at Copperhead":https://www.southeastwheelseven
 ts.com/profile/TheLodgeatCopperhead
ATTACH;FMTTYPE="image/jpeg":
ATTENDEE;ROLE=REQ-PARTICIPANT;PARTSTAT=ACCEPTED;RSVP=TRUE;CN="The Lodg
 e at Copperhead":https://www.southeastwheelsevents.com/profile/TheLodg
 eatCopperhead
END:VEVENT
END:VCALENDAR
