BEGIN:VCALENDAR
PRODID:NingEventWidget-v1
VERSION:2.0
METHOD:PUBLISH
BEGIN:VTIMEZONE
TZID:Pacific/Midway
X-LIC-LOCATION:Pacific/Midway
BEGIN:STANDARD
TZOFFSETFROM:-1100
TZOFFSETTO:-1100
TZNAME:SST
DTSTART:19700101T000000
END:STANDARD
END:VTIMEZONE
BEGIN:VEVENT
UID:5072275:Event:878719
DTSTAMP:20260421T220645Z
SUMMARY:The Marvel of Flight Car Show -Defuniak Springs, FL
DESCRIPTION:\nThe Marvel of Flight Car Show -Defuniak Springs, FL\nThe
  DeFuniak Springs Airport is owned and operated by the City of DeFuni
 ak Springs. The airport serves the general aviation transportation nee
 ds of the City and Walton County\n\nFor more information visit https:/
 /www.southeastwheelsevents.com/events/the-marvel-of-flight-car-show-de
 funiak-springs-fl
DTSTART;TZID=Pacific/Midway:20170401T090000
DTEND;TZID=Pacific/Midway:20170401T150000
CATEGORIES:car-show
LOCATION:Defuniak Spring Airport
WEBSITE:http://www.marvelofflight.com/
URL:http://www.marvelofflight.com/
CONTACT:850) 892-2000
ORGANIZER;CN="Chuck Aaron":https://www.southeastwheelsevents.com/profi
 le/ChuckAaron
ATTACH;FMTTYPE="image/jpeg":http://storage.ning.com/topology/rest/1.0/
 file/get/967681955?profile=original
ATTENDEE;ROLE=REQ-PARTICIPANT;PARTSTAT=ACCEPTED;RSVP=TRUE;CN="Chuck Aa
 ron":https://www.southeastwheelsevents.com/profile/ChuckAaron
END:VEVENT
END:VCALENDAR
