BEGIN:VCALENDAR
PRODID:NingEventWidget-v1
VERSION:2.0
METHOD:PUBLISH
BEGIN:VTIMEZONE
TZID:Pacific/Midway
X-LIC-LOCATION:Pacific/Midway
BEGIN:STANDARD
TZOFFSETFROM:-1100
TZOFFSETTO:-1100
TZNAME:SST
DTSTART:19700101T000000
END:STANDARD
END:VTIMEZONE
BEGIN:VEVENT
UID:5072275:Event:1245938
DTSTAMP:20260422T055933Z
SUMMARY:Concours of Excellence -Woodstock, GA
DESCRIPTION:\r\n\r\n\r\nCar Show: Top 25\r\n\r\n\r\n$20.00\r\nConcours
  of Excellence Car Show: Top 25\r\n\r\nJoin us for the Concours of Exc
 ellence Car Show: Top 25 on March 8, 2025, from 9 AM to 12 PM at The O
 utlet Shoppes at Atlanta, located at 915 Ridgewalk Parkway, Woodstock,
  GA 30188. This distinguished event welcomes all makes and models, cel
 ebrating automotive excellence in our community.\r\nEvent Highlights:\
 r\n\r\n Top 25 Awards: Participants will vote to honor the Top 25 veh
 icles, with a special Best of Show award for the standout vehicle of t
 he day.\r\n Live DJ Entertainment: Get ready for an energetic atmosph
 ere as our DJ spins up some great tunes throughout the event! Enjoy th
 e beats while admiring some of the finest cars around.\r\n Vehicle Re
 gistration:\r\nRegister now at \r\nhttps://www.carcommunityconnection
 .com\r\n\r\n$20 per vehicle\r\nCar Community Connection Platinum Membe
 rs receive FREE registration at the event\r\nSpectators attend FREE\r\
 nRegister now at www.carcommunityconnection.com\r\nEsteemed Sponsors:
 \r\nk forward to seeing you there! \n\nFor more information visit htt
 ps://www.southeastwheelsevents.com/events/the-massive-cruise-in-woodst
 ock-ga
DTSTART;TZID=Pacific/Midway:20250308T090000
DTEND;TZID=Pacific/Midway:20250308T120000
CATEGORIES:car, show, cruise, in, concours, of, excellence, connection
LOCATION:The Outlet Shoppes at Atlanta
WEBSITE:https://www.facebook.com/carcommunityconnection
URL:https://www.facebook.com/carcommunityconnection
CONTACT:(916) 207-4645
ORGANIZER:Car Community Connection
ATTACH;FMTTYPE="image/jpeg":https://storage.ning.com/topology/rest/1.0
 /file/get/11003169263?profile=original
ATTENDEE;ROLE=REQ-PARTICIPANT;PARTSTAT=ACCEPTED;RSVP=TRUE;CN="Chuck Aa
 ron":https://www.southeastwheelsevents.com/profile/ChuckAaron886
END:VEVENT
END:VCALENDAR
