BEGIN:VCALENDAR
PRODID:NingEventWidget-v1
VERSION:2.0
METHOD:PUBLISH
BEGIN:VTIMEZONE
TZID:Pacific/Midway
X-LIC-LOCATION:Pacific/Midway
BEGIN:STANDARD
TZOFFSETFROM:-1100
TZOFFSETTO:-1100
TZNAME:SST
DTSTART:19700101T000000
END:STANDARD
END:VTIMEZONE
BEGIN:VEVENT
UID:5072275:Event:1061971
DTSTAMP:20260423T134854Z
SUMMARY:The Masters Car Club Meeting -Loganville, GA
DESCRIPTION:\r\nThe Masters Car Club Meeting\r\n\r\n\r\n\r\nMonthly on
  the second Saturday\r\n\r\n\r\n\r\n\r\n\r\n\r\n\r\n\r\n\r\n\r\nWhere\
 r\n\r\n\r\n\r\nSparky's Machines\r\n\r\n\r\n\r\n\r\n\r\n\r\n\r\nthemas
 terscarclub@gmail.com\r\n\r\n\r\n\r\n\r\n\r\n\r\n\r\n\r\n\n\nFor more 
 information visit https://www.southeastwheelsevents.com/events/the-mas
 ters-car-club-meeting-loganville-ga-2
DTSTART;TZID=Pacific/Midway:20171209T090000
DTEND;TZID=Pacific/Midway:20171209T120000
CATEGORIES:car, show, club, meeting
LOCATION:Sparky's Machines
WEBSITE:http://themasterscarclub.com
URL:http://themasterscarclub.com
CONTACT:
ORGANIZER:Masters Car Club
ATTACH;FMTTYPE="image/jpeg":http://storage.ning.com/topology/rest/1.0/
 file/get/967750117?profile=original
ATTENDEE;ROLE=REQ-PARTICIPANT;PARTSTAT=ACCEPTED;RSVP=TRUE;CN="Chuck Aa
 ron":https://www.southeastwheelsevents.com/profile/ChuckAaron886
END:VEVENT
END:VCALENDAR
