BEGIN:VCALENDAR
PRODID:NingEventWidget-v1
VERSION:2.0
METHOD:PUBLISH
BEGIN:VTIMEZONE
TZID:Pacific/Midway
X-LIC-LOCATION:Pacific/Midway
BEGIN:STANDARD
TZOFFSETFROM:-1100
TZOFFSETTO:-1100
TZNAME:SST
DTSTART:19700101T000000
END:STANDARD
END:VTIMEZONE
BEGIN:VEVENT
UID:5072275:Event:178014
DTSTAMP:20260423T220321Z
SUMMARY:The Roger Miller Benefit Car and Motorcycle Show! -Macon, GA
DESCRIPTION:Car%20Show%20Flyer%5B1%5D.docxRoger Miller Benifit Car and
  Motorcycle show!\n\nFor more information visit https://www.southeastw
 heelsevents.com/events/the-roger-miller-benefit-car
DTSTART;TZID=Pacific/Midway:20110423T080000
DTEND;TZID=Pacific/Midway:20110423T180000
CATEGORIES:fundraiser
LOCATION:Virginia College, Macon GA
WEBSITE:http://www.funcart.org/charity-car-show-registration.php
URL:http://www.funcart.org/charity-car-show-registration.php
CONTACT:478-808-2129
ORGANIZER:Josh McCuen
ATTACH;FMTTYPE="image/jpeg":
ATTENDEE;ROLE=REQ-PARTICIPANT;PARTSTAT=TENTATIVE;RSVP=TRUE;CN="zach mc
 clure":https://www.southeastwheelsevents.com/profile/zachmcclure
END:VEVENT
END:VCALENDAR
