BEGIN:VCALENDAR
PRODID:NingEventWidget-v1
VERSION:2.0
METHOD:PUBLISH
BEGIN:VTIMEZONE
TZID:Pacific/Midway
X-LIC-LOCATION:Pacific/Midway
BEGIN:STANDARD
TZOFFSETFROM:-1100
TZOFFSETTO:-1100
TZNAME:SST
DTSTART:19700101T000000
END:STANDARD
END:VTIMEZONE
BEGIN:VEVENT
UID:5072275:Event:1056430
DTSTAMP:20260423T105858Z
SUMMARY:The Sespe Creek Car n Cycle Show
DESCRIPTION:This year is the 21st Annual Sespe Creek Car and Cycle Sho
 w. There will be Awards, Arts and Crafts, Food Trucks and much more!\n
 Best of Show 1973 and Older Best of Class Muscle Car Tri Five Best Low
  Rider Best Show\n\nFor more information visit https://www.southeastwh
 eelsevents.com/events/the-sespe-creek-car-n-cycle-show
DTSTART;TZID=Pacific/Midway:20170704T100000
DTEND;TZID=Pacific/Midway:20170704T210000
CATEGORIES:car, show
LOCATION:Art Sanchez Insurance.
WEBSITE:
URL:
CONTACT:(805) 524-2476
ORGANIZER:Art Sanchez Insurance.
ATTACH;FMTTYPE="image/jpeg":http://storage.ning.com/topology/rest/1.0/
 file/get/967750093?profile=original
ATTENDEE;ROLE=REQ-PARTICIPANT;PARTSTAT=ACCEPTED;RSVP=TRUE;CN="Lee Gosn
 ey":https://www.southeastwheelsevents.com/profile/LeeGosney
END:VEVENT
END:VCALENDAR
