BEGIN:VCALENDAR
PRODID:NingEventWidget-v1
VERSION:2.0
METHOD:PUBLISH
BEGIN:VTIMEZONE
TZID:Pacific/Midway
X-LIC-LOCATION:Pacific/Midway
BEGIN:STANDARD
TZOFFSETFROM:-1100
TZOFFSETTO:-1100
TZNAME:SST
DTSTART:19700101T000000
END:STANDARD
END:VTIMEZONE
BEGIN:VEVENT
UID:5072275:Event:824616
DTSTAMP:20260424T055916Z
SUMMARY:The Shoals British Car Club Meeting -Florence, AL
DESCRIPTION:\n\nThe Shoals British Car Club welcomes anyone who has an
  interest in British cars.  Whether you're an old timer to British ca
 rs, a new owner, or just someone who wants to get involved, you are we
 lcome to join us.  \nEvents include our montly meeting, our annua
 l local car show, road trips, drive-outs, tech sessions, and other va
 rious events and activities.\nThe club is based in The Shoals, Alabama
  which is comprised of the 4 major cities of Florence, Muscle Shoals, 
 Sheffield and Tuscumbia. \n  Our main goals are to: 1) Promote the pr
 eservation of British cars. 2) Promote the enjoyment of British cars.
  3) Promote public interest in British cars.\n\n\n \n\n \n\n\n\n\n\n
 \n\n\n\nFor more information visit https://www.southeastwheelsevents.c
 om/events/the-shoals-british-car-club-meeting-florence-al-2
DTSTART;TZID=Pacific/Midway:20161213T180000
DTEND;TZID=Pacific/Midway:20161213T200000
CATEGORIES:club, meet, "&", show
LOCATION:Singleton's BBQ
WEBSITE:http://www.shoalsbritishcars.org/
URL:http://www.shoalsbritishcars.org/
CONTACT:Jean.Mammen@comcast.net
ORGANIZER:The Shoals British Car Club
ATTACH;FMTTYPE="image/jpeg":http://storage.ning.com/topology/rest/1.0/
 file/get/967668204?profile=original
ATTENDEE;ROLE=REQ-PARTICIPANT;PARTSTAT=ACCEPTED;RSVP=TRUE;CN="Chuck Aa
 ron":https://www.southeastwheelsevents.com/profile/ChuckAaron
END:VEVENT
END:VCALENDAR
