BEGIN:VCALENDAR
PRODID:NingEventWidget-v1
VERSION:2.0
METHOD:PUBLISH
BEGIN:VTIMEZONE
TZID:Pacific/Midway
X-LIC-LOCATION:Pacific/Midway
BEGIN:STANDARD
TZOFFSETFROM:-1100
TZOFFSETTO:-1100
TZNAME:SST
DTSTART:19700101T000000
END:STANDARD
END:VTIMEZONE
BEGIN:VEVENT
UID:5072275:Event:908528
DTSTAMP:20260419T104349Z
SUMMARY:The Street Driven Tour -Hampton, GA
DESCRIPTION:Street Driven Tour marks the shift towards an immersive fa
 n experience within the industry’s event market. Each event’s vari
 ous activities are designed to enhance guest participation and enjoyme
 nt. All events boast an all-day open drift format in which both profes
 sional and amateur drivers can participate, with drift games and compe
 titions to challenge the drivers and entertain the fans. Our car show,
  The Street Driven Showoff, allows the entrants to act as judges, pick
 ing the winners outside of their own show class. Other attractions suc
 h as the car limbo and burnout contests are available for guests to en
 ter and win prizes. The events will also incorporate entertainment ele
 ments that are non-automotive based, but still synonymous with the en
 thusiast lifestyle. Lounge areas, full-sized carnival rides, pick-up s
 ports games, and artisan food provides an all-inclusive day at the tra
 ck.\n \nStreet Driven Tour is creating a fan-first environment that w
 ill encapsulate the enthusiast’s spirit and ensure it is the premier
  automotive event to attend this season. \n\nFor more information vis
 it https://www.southeastwheelsevents.com/events/the-street-driven-tour
DTSTART;TZID=Pacific/Midway:20150801T090000
DTEND;TZID=Pacific/Midway:20150801T180000
CATEGORIES:drift, automotive, amusement, park
LOCATION:Atlanta Motor Speedway
WEBSITE:http://www.streetdriventour.com
URL:http://www.streetdriventour.com
CONTACT:6784279062
ORGANIZER;CN="Jayke Milton":https://www.southeastwheelsevents.com/prof
 ile/JaykeMilton
ATTACH;FMTTYPE="image/jpeg":http://storage.ning.com/topology/rest/1.0/
 file/get/967691470?profile=original
ATTENDEE;ROLE=REQ-PARTICIPANT;PARTSTAT=ACCEPTED;RSVP=TRUE;CN="Jayke Mi
 lton":https://www.southeastwheelsevents.com/profile/JaykeMilton
END:VEVENT
END:VCALENDAR
