BEGIN:VCALENDAR
PRODID:NingEventWidget-v1
VERSION:2.0
METHOD:PUBLISH
BEGIN:VTIMEZONE
TZID:Pacific/Midway
X-LIC-LOCATION:Pacific/Midway
BEGIN:STANDARD
TZOFFSETFROM:-1100
TZOFFSETTO:-1100
TZNAME:SST
DTSTART:19700101T000000
END:STANDARD
END:VTIMEZONE
BEGIN:VEVENT
UID:5072275:Event:1268071
DTSTAMP:20260421T205209Z
SUMMARY:The Ultimate Ride Lounge Car Meet
DESCRIPTION:Rev your engines and join us at the brand-new luxury Ride 
 Lounge for an exclusive car meet! Whether you’re bringing your ride 
 to showcase or just coming to check out some incredible cars, this is 
 the event for all car enthusiasts!✅ Epic Cars✅ Fun Giveaways✅ Ta
 sty Food Vendors✅ Family-Friendly VibesBring your family, friends, a
 nd your best ride! Let’s make this a legendary morning of horsepower
 , style, and community.Tag your crew & share this post! Let’s pack t
 he lot with the best rides in town. See you there!\n\nFor more informa
 tion visit https://www.southeastwheelsevents.com/events/the-ultimate-r
 ide-lounge-car-meet
DTSTART;TZID=Pacific/Midway:20250426T090000
DTEND;TZID=Pacific/Midway:20250426T120000
CATEGORIES:the, ultimate, auto, experience, car, meet
LOCATION:PEACHTREE CORNERS
WEBSITE:
URL:
CONTACT:7705455227
ORGANIZER;CN="Ride Lounge":https://www.southeastwheelsevents.com/profi
 le/DaphneMyers
ATTACH;FMTTYPE="image/jpeg":https://storage.ning.com/topology/rest/1.0
 /file/get/13538232059?profile=original
ATTENDEE;ROLE=REQ-PARTICIPANT;PARTSTAT=ACCEPTED;RSVP=TRUE;CN="Ride Lou
 nge":https://www.southeastwheelsevents.com/profile/DaphneMyers
END:VEVENT
END:VCALENDAR
