BEGIN:VCALENDAR
PRODID:NingEventWidget-v1
VERSION:2.0
METHOD:PUBLISH
BEGIN:VTIMEZONE
TZID:Pacific/Midway
X-LIC-LOCATION:Pacific/Midway
BEGIN:STANDARD
TZOFFSETFROM:-1100
TZOFFSETTO:-1100
TZNAME:SST
DTSTART:19700101T000000
END:STANDARD
END:VTIMEZONE
BEGIN:VEVENT
UID:5072275:Event:1077645
DTSTAMP:20260421T045442Z
SUMMARY:CANCELLED DUE TO WEATHER - The Varsity Gwinnett Cruise-In, Nor
 cross, GA
DESCRIPTION:CANCELLED DUE TO WEATHER! WE WILL RESUME NEXT MONTH ON THE
  THIRD SUNDAY!!  PUT US ON YOUR SCHEDULE FOR A GREAT SUNFAY RELAX TIM
 E!\r\n\r\n\r\n\r\nMake sure this monthly FREE and FUN Cruise-in is on 
 your calendar for every 3rd Sunday Afternoon! Come meet your car buddi
 es and enjoy a Chili Dog, a Frosted Orange and a bunch of other \"Cool
 \" Cars.\r\nThere are four awards presented by the Hosts and Sponsor! 
 These Cruise-Ins are presented by Georgia Cool Cruisers and Southeast 
 Wheels Events.com and Sponsored by Streetside Classics.\n\nFor more in
 formation visit https://www.southeastwheelsevents.com/events/the-varsi
 ty-gwinnett-cruise-in-norcross-ga-3
DTSTART;TZID=Pacific/Midway:20180415T150000
DTEND;TZID=Pacific/Midway:20180415T180000
CATEGORIES:cruise-in, car, show
LOCATION:The Varsity Gwinnett CANCELLED
WEBSITE:http://www.GeorgiaCoolCruisers.org
URL:http://www.GeorgiaCoolCruisers.org
CONTACT:404-732-6842
ORGANIZER;CN="Rick Ellis":https://www.southeastwheelsevents.com/profil
 e/RickEllis
ATTACH;FMTTYPE="image/jpeg":http://storage.ning.com/topology/rest/1.0/
 file/get/967763402?profile=original
ATTENDEE;ROLE=REQ-PARTICIPANT;PARTSTAT=ACCEPTED;RSVP=TRUE;CN="Rick Ell
 is":https://www.southeastwheelsevents.com/profile/RickEllis
END:VEVENT
END:VCALENDAR
