BEGIN:VCALENDAR
PRODID:NingEventWidget-v1
VERSION:2.0
METHOD:PUBLISH
BEGIN:VTIMEZONE
TZID:Pacific/Midway
X-LIC-LOCATION:Pacific/Midway
BEGIN:STANDARD
TZOFFSETFROM:-1100
TZOFFSETTO:-1100
TZNAME:SST
DTSTART:19700101T000000
END:STANDARD
END:VTIMEZONE
BEGIN:VEVENT
UID:5072275:Event:626306
DTSTAMP:20260424T040643Z
SUMMARY:The Way Church - Car Show & Chickenque - Canon, Ga.
DESCRIPTION:CAR SHOW AND CHICKENQUE\n \nTHE WAY CHURCH IS SPONSORING 
 THEIR FIFTH ANNUAL CAR SHOW AND CHICKENQUE ON SATURDAY, APRIL 27TH  F
 ROM 4:00-7:00 PM. REGISTRATION FOR CARS CAN BE MADE IN ADVANCE OR BEGI
 NNING AT 3:00 PM THE DAY OF THE SHOW. THERE IS NO CHARGE FOR REGISTRAT
 ION. AWARDS WILL BE GIVEN TO THE TOP FIVE ENTRIES AS VOTED ON BY THE F
 ANS. DOOR PRIZES WILL BE GIVEN AWAY DURING THE SHOW AND A 50/50 DRAWIN
 G WILL BE HELD AT 7:00 PM. A DJ WILL BE ON HAND PLAYING THE OLDIES, VE
 NDORS WILL HAVE DISPLAYS, AND BAKE SALE ITEMS WILL ON SALE.\n \nBARBE
 QUE CHICKEN PLATES WILL BE AVAILABLE BEGINNING AT 4:00 PM. FOR $7.00 A
  PLATE. A DINING AREA WILL BE AVAILABLE FOR THOSE WISHING TO DINE-IN.\
 n \nEVERYONE IS INVITED AND THERE IS NO CHARGE FOR ADMISSION. THE WAY
  CHURCH IS LOCATED AT 1332 AIRLINE-GOLDMINE ROAD CANON, GA. FOR MORE I
 NFORMATION OR FOR CHICKENQUE TICKETS CALL 706-376-7729 OR 706-436-3406
 .\n \n \n \nCONTACT INFORMATION:\n \nCARROLL JOHNSON\n706-436-3405
 \n\nFor more information visit https://www.southeastwheelsevents.com/e
 vents/the-way-church-car-show-chickenque-canon-ga
DTSTART;TZID=Pacific/Midway:20130427T160000
DTEND;TZID=Pacific/Midway:20130427T190000
CATEGORIES:car, show
LOCATION:The Way Church
WEBSITE:http://thewaychurchga.org
URL:http://thewaychurchga.org
CONTACT:706-376-7729 or 706-436-3405
ORGANIZER:The Way Church
ATTACH;FMTTYPE="image/jpeg":http://storage.ning.com/topology/rest/1.0/
 file/get/967634849?profile=original
ATTENDEE;ROLE=REQ-PARTICIPANT;PARTSTAT=ACCEPTED;RSVP=TRUE;CN="Carroll 
 Johnson":https://www.southeastwheelsevents.com/profile/CarrollJohnson
END:VEVENT
END:VCALENDAR
