BEGIN:VCALENDAR
PRODID:NingEventWidget-v1
VERSION:2.0
METHOD:PUBLISH
BEGIN:VTIMEZONE
TZID:Pacific/Midway
X-LIC-LOCATION:Pacific/Midway
BEGIN:STANDARD
TZOFFSETFROM:-1100
TZOFFSETTO:-1100
TZNAME:SST
DTSTART:19700101T000000
END:STANDARD
END:VTIMEZONE
BEGIN:VEVENT
UID:5072275:Event:470736
DTSTAMP:20260422T213121Z
SUMMARY:THE WHEELS EVENTS RADIO HOUR
DESCRIPTION:The Wheels Events Radio Hour is hosted by Mike Thies, the 
 founder of the national and regional Wheel Events websites. The sho
 w is a general celebration of the profession and hobbies related t
 o the creation, restoration, display, competitions of all kinds of 
 cars, trucks, and motorcycles.  We regularly have guest hosts and tak
 e phone calls from all around the country to discuss their events, pro
 jects, and dreams.\n \nPlease listen online at Garage71.com on Thu
 rsdays at 7:00 to 8:00 PM each week and call us with your events.Cli
 ck here. \n\nFor more information visit https://www.southeastwheelsev
 ents.com/events/the-wheels-events-radio-hour-7
DTSTART;TZID=Pacific/Midway:20120830T190000
DTEND;TZID=Pacific/Midway:20120830T200000
CATEGORIES:radio-show
LOCATION:Online on www.garage71.com
WEBSITE:http://www.garage71.com
URL:http://www.garage71.com
CONTACT:770-883-0160
ORGANIZER;CN="Michael Thies":https://www.southeastwheelsevents.com/pro
 file/MichaelThies
ATTACH;FMTTYPE="image/jpeg":http://storage.ning.com/topology/rest/1.0/
 file/get/967594814?profile=original
ATTENDEE;ROLE=REQ-PARTICIPANT;PARTSTAT=ACCEPTED;RSVP=TRUE;CN="Michael 
 Thies":https://www.southeastwheelsevents.com/profile/MichaelThies
END:VEVENT
END:VCALENDAR
