BEGIN:VCALENDAR
PRODID:NingEventWidget-v1
VERSION:2.0
METHOD:PUBLISH
BEGIN:VTIMEZONE
TZID:Pacific/Midway
X-LIC-LOCATION:Pacific/Midway
BEGIN:STANDARD
TZOFFSETFROM:-1100
TZOFFSETTO:-1100
TZNAME:SST
DTSTART:19700101T000000
END:STANDARD
END:VTIMEZONE
BEGIN:VEVENT
UID:5072275:Event:1068739
DTSTAMP:20260422T020224Z
SUMMARY:Third Annual 100%CHARITY  Car Truck & Bike show
DESCRIPTION:\n\nFor more information visit https://www.southeastwheels
 events.com/events/third-annual-100-charity-car-truck-bike-show
DTSTART;TZID=Pacific/Midway:20171014T090000
DTEND;TZID=Pacific/Midway:20171014T150000
CATEGORIES:charity, show, "&amp", "shine...allproceeds", to, athens, v
 eterans, museum
LOCATION:ATHENS ALLSPORTS PLEX
WEBSITE:
URL:
CONTACT:256-777-0606
ORGANIZER:Joseph
ATTACH;FMTTYPE="image/jpeg":http://storage.ning.com/topology/rest/1.0/
 file/get/967751951?profile=original
ATTENDEE;ROLE=REQ-PARTICIPANT;PARTSTAT=TENTATIVE;RSVP=TRUE;CN="Jeffrey
  Rutherford":https://www.southeastwheelsevents.com/profile/JeffreyRuth
 erford866
END:VEVENT
END:VCALENDAR
