BEGIN:VCALENDAR
PRODID:NingEventWidget-v1
VERSION:2.0
METHOD:PUBLISH
BEGIN:VTIMEZONE
TZID:Pacific/Midway
X-LIC-LOCATION:Pacific/Midway
BEGIN:STANDARD
TZOFFSETFROM:-1100
TZOFFSETTO:-1100
TZNAME:SST
DTSTART:19700101T000000
END:STANDARD
END:VTIMEZONE
BEGIN:VEVENT
UID:5072275:Event:607019
DTSTAMP:20260419T035807Z
SUMMARY:Bike Night at Wild Wings! -Alpharetta, GA
DESCRIPTION:\n Friday, May 3rd: KCHD partners with the Blue Bloods MC
  to sponsor Bike Night at Wild Wings. Join us for food and drink speci
 als, music and give-aways. Wild Wings is located at 5530 Windward Pkwy
  #800E, Alpharetta. FMI call 770.777.1000 or visit www.killercreekharl
 ey.com.\n\n\nFor more information visit https://www.southeastwheelseve
 nts.com/events/this-is-how-we-do-it-13
DTSTART;TZID=Pacific/Midway:20130705T170000
DTEND;TZID=Pacific/Midway:20130705T220000
CATEGORIES:biek, night
LOCATION:Wild Wings - Killer Creek Harley Davidson
WEBSITE:http://www.killercreekharley.com
URL:http://www.killercreekharley.com
CONTACT:770-777-1000
ORGANIZER:Ari Bromley
ATTACH;FMTTYPE="image/jpeg":http://storage.ning.com/topology/rest/1.0/
 file/get/967631241?profile=original
ATTENDEE;ROLE=REQ-PARTICIPANT;PARTSTAT=ACCEPTED;RSVP=TRUE;CN="Ari Brom
 ley":https://www.southeastwheelsevents.com/profile/MandiHarris
END:VEVENT
END:VCALENDAR
