BEGIN:VCALENDAR
PRODID:NingEventWidget-v1
VERSION:2.0
METHOD:PUBLISH
BEGIN:VTIMEZONE
TZID:Pacific/Midway
X-LIC-LOCATION:Pacific/Midway
BEGIN:STANDARD
TZOFFSETFROM:-1100
TZOFFSETTO:-1100
TZNAME:SST
DTSTART:19700101T000000
END:STANDARD
END:VTIMEZONE
BEGIN:VEVENT
UID:5072275:Event:852769
DTSTAMP:20260420T132556Z
SUMMARY:Thunder By The Bay Motorcycle Festival -Sarasota, FL
DESCRIPTION:\r\nThe 22nd Annual Thunder By The Bay Music & Motorcycle 
 Festival is a three day event held at the Sarasota Fairgrounds to bene
 fit Suncoast Charities for Children.Bring your lawn chair and enjoy co
 ntinuous live music with featured headliner WARRANT performing Saturda
 y - February 15th.This years Festival includes a charity poker run, ve
 ndors, freestyle acts, a motorcycle show, burnout competition, great f
 ood, and much more.Dry & full service camping available on site.Gate a
 dmission is $5 - 12 and under free. Three day festival passes are avai
 lable for $12 at Rossiter's Harley-Davidson and Sarasota Ford.\n\nFor 
 more information visit https://www.southeastwheelsevents.com/events/th
 under-by-the-bay-motorcycle-festival-sarasota-fl
DTSTART;TZID=Pacific/Midway:20200214T000000
DTEND;TZID=Pacific/Midway:20200215T235900
CATEGORIES:motorcycle, show, festival
LOCATION:Sarasota Fairgrounds
WEBSITE:http://www.thunderbythebay.org/
URL:http://www.thunderbythebay.org/
CONTACT:(941) 650-6595 - Sarah Catell assist@suncoastcc.org
ORGANIZER:Thunder By The Bay Motorcycle Festival
ATTACH;FMTTYPE="image/jpeg":http://storage.ning.com/topology/rest/1.0/
 file/get/967674872?profile=original
ATTENDEE;ROLE=REQ-PARTICIPANT;PARTSTAT=ACCEPTED;RSVP=TRUE;CN="Chuck Aa
 ron":https://www.southeastwheelsevents.com/profile/ChuckAaron
END:VEVENT
END:VCALENDAR
