BEGIN:VCALENDAR
PRODID:NingEventWidget-v1
VERSION:2.0
METHOD:PUBLISH
BEGIN:VTIMEZONE
TZID:Pacific/Midway
X-LIC-LOCATION:Pacific/Midway
BEGIN:STANDARD
TZOFFSETFROM:-1100
TZOFFSETTO:-1100
TZNAME:SST
DTSTART:19700101T000000
END:STANDARD
END:VTIMEZONE
BEGIN:VEVENT
UID:5072275:Event:766846
DTSTAMP:20260419T052240Z
SUMMARY:Thunder On Liberty Cruise In And Car Show -Waynesboro, GA
DESCRIPTION:\n( Postponed from April 18th, due to rain ) We have a dow
 ntown street event open to all types of classic cars, muscles cars and
  even a few jalopies!  Our event is designed to let visitors to our s
 how vote for their favorites in several categories and each of the cat
 egory winners receives a trophy and gift package.  We have food and d
 rink vendors, games and music, but the cars are the stars!\n\nFor more
  information visit https://www.southeastwheelsevents.com/events/thunde
 r-on-liberty-cruise-in-and-car-show
DTSTART;TZID=Pacific/Midway:20140425T180000
DTEND;TZID=Pacific/Midway:20140425T213000
CATEGORIES:cruise, in, and, car, show
LOCATION:On Liberty St between 6th St and 8th St, downtown Waynesboro,
  Georgia
WEBSITE:
URL:
CONTACT:706-840-4038
ORGANIZER;CN="Don Lively":https://www.southeastwheelsevents.com/profil
 e/DonLively
ATTACH;FMTTYPE="image/jpeg":
ATTENDEE;ROLE=REQ-PARTICIPANT;PARTSTAT=ACCEPTED;RSVP=TRUE;CN="Don Live
 ly":https://www.southeastwheelsevents.com/profile/DonLively
END:VEVENT
END:VCALENDAR
