BEGIN:VCALENDAR
PRODID:NingEventWidget-v1
VERSION:2.0
METHOD:PUBLISH
BEGIN:VTIMEZONE
TZID:Pacific/Midway
X-LIC-LOCATION:Pacific/Midway
BEGIN:STANDARD
TZOFFSETFROM:-1100
TZOFFSETTO:-1100
TZNAME:SST
DTSTART:19700101T000000
END:STANDARD
END:VTIMEZONE
BEGIN:VEVENT
UID:5072275:Event:1030313
DTSTAMP:20260421T031117Z
SUMMARY:Thunder Tower Harley-Davidson 101 Ride
DESCRIPTION:Thunder Tower Harley-Davidson 101 Ride. Join us for this f
 un, interactive, free event to experience Harley-Davidson and kick sta
 rt some good times. » We’ll have free food and drinks, door prizes,
  giveaways and more! » Hop on our JUMP START motorcycle simulator - n
 o riding experience or license required! Start it up, rev the throttle
  and feel the rumble of a real Harley-Davidson® motorcycle. » Bring 
 your friends and make some new ones!\n\nFor more information visit htt
 ps://www.southeastwheelsevents.com/events/thunder-tower-harley-davidso
 n-101-ride
DTSTART;TZID=Pacific/Midway:20170211T100000
DTEND;TZID=Pacific/Midway:20170211T180000
CATEGORIES:motorcycles, "clubs/shows/cruises"
LOCATION:Thunder Tower Harley-Davidson
WEBSITE:https://www.facebook.com/pg/thundertowerharley/events/?ref=pag
 e_internal
URL:https://www.facebook.com/pg/thundertowerharley/events/?ref=page_in
 ternal
CONTACT:
ORGANIZER:Thunder Tower Harley-Davidson
ATTACH;FMTTYPE="image/jpeg":
ATTENDEE;ROLE=REQ-PARTICIPANT;PARTSTAT=ACCEPTED;RSVP=TRUE;CN="Christop
 her Gosney":https://www.southeastwheelsevents.com/profile/ChristopherG
 osney
END:VEVENT
END:VCALENDAR
