BEGIN:VCALENDAR
PRODID:NingEventWidget-v1
VERSION:2.0
METHOD:PUBLISH
BEGIN:VTIMEZONE
TZID:Pacific/Midway
X-LIC-LOCATION:Pacific/Midway
BEGIN:STANDARD
TZOFFSETFROM:-1100
TZOFFSETTO:-1100
TZNAME:SST
DTSTART:19700101T000000
END:STANDARD
END:VTIMEZONE
BEGIN:VEVENT
UID:5072275:Event:1028681
DTSTAMP:20260424T082038Z
SUMMARY:Thursday Sale at Insurance Auto Auctions Pensacola
DESCRIPTION:Thursday Sale at Insurance Auto Auctions. Vehicle Preview:
 Wednesdays Preceding Auction Date - 8:00 am til 4:00 pm. Vehicles for 
 each auction may be previewed prior to the sale and only those vehicle
 s assigned for that sale. Sale starts at 9:00 am and end time may chan
 ge.\n\nFor more information visit https://www.southeastwheelsevents.co
 m/events/thursday-sale-at-insurance-auto-auctions-pensacola
DTSTART;TZID=Pacific/Midway:20170112T090000
DTEND;TZID=Pacific/Midway:20170112T140000
CATEGORIES:cars, "auction/swap"
LOCATION:Insurance Auto Auctions
WEBSITE:https://www.iaai.com/Auctions/BranchListingView.aspx?branchCod
 e=737&aucDate=01122017
URL:https://www.iaai.com/Auctions/BranchListingView.aspx?branchCode=73
 7&aucDate=01122017
CONTACT:
ORGANIZER:Insurance Auto Auctions Inc
ATTACH;FMTTYPE="image/jpeg":http://storage.ning.com/topology/rest/1.0/
 file/get/967729007?profile=original
ATTENDEE;ROLE=REQ-PARTICIPANT;PARTSTAT=ACCEPTED;RSVP=TRUE;CN="Christop
 her Gosney":https://www.southeastwheelsevents.com/profile/ChristopherG
 osney
END:VEVENT
END:VCALENDAR
