BEGIN:VCALENDAR
PRODID:NingEventWidget-v1
VERSION:2.0
METHOD:PUBLISH
BEGIN:VTIMEZONE
TZID:Pacific/Midway
X-LIC-LOCATION:Pacific/Midway
BEGIN:STANDARD
TZOFFSETFROM:-1100
TZOFFSETTO:-1100
TZNAME:SST
DTSTART:19700101T000000
END:STANDARD
END:VTIMEZONE
BEGIN:VEVENT
UID:5072275:Event:4321
DTSTAMP:20260421T081642Z
SUMMARY:Tiftarea Auto Club Super Cruise In -Tifton, Ga
DESCRIPTION:Location: Checkers City/Town: Tifton Phone: 229-382-4211 O
 rganized By: Ed Branch\n\nFor more information visit https://www.south
 eastwheelsevents.com/events/tiftarea-auto-club-super
DTSTART;TZID=Pacific/Midway:20130302T160000
DTEND;TZID=Pacific/Midway:20130302T200000
CATEGORIES:car-show
LOCATION:Checkers Drive-In Restaurant
WEBSITE:
URL:
CONTACT:229-382-4211
ORGANIZER:Ed Branch
ATTACH;FMTTYPE="image/jpeg":
ATTENDEE;ROLE=REQ-PARTICIPANT;PARTSTAT=ACCEPTED;RSVP=TRUE;CN="Michael 
 Thies":https://www.southeastwheelsevents.com/profile/MichaelThies
END:VEVENT
END:VCALENDAR
