BEGIN:VCALENDAR
PRODID:NingEventWidget-v1
VERSION:2.0
METHOD:PUBLISH
BEGIN:VTIMEZONE
TZID:Pacific/Midway
X-LIC-LOCATION:Pacific/Midway
BEGIN:STANDARD
TZOFFSETFROM:-1100
TZOFFSETTO:-1100
TZNAME:SST
DTSTART:19700101T000000
END:STANDARD
END:VTIMEZONE
BEGIN:VEVENT
UID:5072275:Event:684325
DTSTAMP:20260422T183923Z
SUMMARY:Tifton HD's Hot Rods & Harleys Show –Tifton, GA
DESCRIPTION:FREE ADMISSION!  Ride-in bike and car show - No Entry Fee 
 Trophies in all categories. Registration: 9am-12pm. Trophies 4:00pm  C
 ars and trucks please RSVP to contactthd@thecreekhd.com to assure your
  spot in the show.  Ms. THD Pin Up Contest Registration: 12pm - 2pm. C
 ash Prizes 3pm.  Tattoo Contest Registration: 12pm-12pm. Trophies 4:30
 pm   Live music by The Todd Williams Band! High roller BMX Stunt Show!
   Plus much more!  All ages, bikes and cars welcome!\n\nFor more infor
 mation visit https://www.southeastwheelsevents.com/events/tifton-hd-s-
 5th-annual-bike-car-show-rockabilly-edition
DTSTART;TZID=Pacific/Midway:20170923T000000
DTEND;TZID=Pacific/Midway:20170923T160000
CATEGORIES:ride, in, bike, "&amp", car, show
LOCATION:Tifton Harley-Davidson
WEBSITE:https://maps.google.com/maps?q=49+Casseta+Road,+Tifton,+GA&amp
 ;hl=en&amp;ll=31.438211,-83.525448&amp;spn=0.007222,0.013078&amp;sll=3
 2.678125,-83.178297&amp;sspn=7.293045,13.392334&amp;oq=49+casseta+&amp
 ;hnear=49+Casseta+Rd,+Tifton,+Georgia+31793&amp;t=m&amp;z=17
URL:https://maps.google.com/maps?q=49+Casseta+Road,+Tifton,+GA&amp;hl=
 en&amp;ll=31.438211,-83.525448&amp;spn=0.007222,0.013078&amp;sll=32.67
 8125,-83.178297&amp;sspn=7.293045,13.392334&amp;oq=49+casseta+&amp;hne
 ar=49+Casseta+Rd,+Tifton,+Georgia+31793&amp;t=m&amp;z=17
CONTACT:229-387-8855
ORGANIZER;CN="The Creek HD":https://www.southeastwheelsevents.com/prof
 ile/TheCreekHD393
ATTACH;FMTTYPE="image/jpeg":http://storage.ning.com/topology/rest/1.0/
 file/get/967645755?profile=original
ATTENDEE;ROLE=REQ-PARTICIPANT;PARTSTAT=ACCEPTED;RSVP=TRUE;CN="Chuck Aa
 ron":https://www.southeastwheelsevents.com/profile/ChuckAaron886
ATTENDEE;ROLE=REQ-PARTICIPANT;PARTSTAT=ACCEPTED;RSVP=TRUE;CN="The Cree
 k HD":https://www.southeastwheelsevents.com/profile/TheCreekHD393
END:VEVENT
END:VCALENDAR
