BEGIN:VCALENDAR
PRODID:NingEventWidget-v1
VERSION:2.0
METHOD:PUBLISH
BEGIN:VTIMEZONE
TZID:Pacific/Midway
X-LIC-LOCATION:Pacific/Midway
BEGIN:STANDARD
TZOFFSETFROM:-1100
TZOFFSETTO:-1100
TZNAME:SST
DTSTART:19700101T000000
END:STANDARD
END:VTIMEZONE
BEGIN:VEVENT
UID:5072275:Event:474421
DTSTAMP:20260421T123345Z
SUMMARY:\"TILL THEY ALL COME HOME\"  Cartersville, Ga. 30120
DESCRIPTION:1st Annual \"TILL THEY ALL COME HOME\" car truck motorcycl
 e show  Cartersville, Ga. 1st in the series of 7 shows to crown the 2
 012 XTREME AUTOSHOWS Road Tour Champions. Participants will be judged 
 in 10 classes with 3 awards in each class plus 1 best of show. Each en
 try will be judged by 3 independent judges on a 294 point scale. Regis
 tration begins at 9am, show begins at 10am. Awards presentation begins
  at 3pm. Pre-registration until Apr.1st 20.00 - day of show 25.00. Mus
 ic, food, vendors, fun. Vendor spaces are available on a one show basi
 s or for the 7 show series. Email: xtremecarshows@gmail.com\n\nFor mor
 e information visit https://www.southeastwheelsevents.com/events/till-
 they-all-come-home-downtown-cartersville-ga-30120
DTSTART;TZID=Pacific/Midway:20120421T100000
DTEND;TZID=Pacific/Midway:20120421T150000
CATEGORIES:championship, series
LOCATION:REDTOP AUTO AUCTION
WEBSITE:
URL:
CONTACT:404-217-3425
ORGANIZER;CN="Robert Graham":https://www.southeastwheelsevents.com/pro
 file/RobertGraham653
ATTACH;FMTTYPE="image/jpeg":http://storage.ning.com/topology/rest/1.0/
 file/get/967610243?profile=original
ATTENDEE;ROLE=REQ-PARTICIPANT;PARTSTAT=ACCEPTED;RSVP=TRUE;CN="Jeff Rut
 herford":https://www.southeastwheelsevents.com/profile/JeffreyRutherfo
 rd
ATTENDEE;ROLE=REQ-PARTICIPANT;PARTSTAT=ACCEPTED;RSVP=TRUE;CN="Robert G
 raham":https://www.southeastwheelsevents.com/profile/RobertGraham653
ATTENDEE;ROLE=REQ-PARTICIPANT;PARTSTAT=ACCEPTED;RSVP=TRUE;CN="Michael 
 Thies":https://www.southeastwheelsevents.com/profile/MichaelThies
ATTENDEE;ROLE=REQ-PARTICIPANT;PARTSTAT=TENTATIVE;RSVP=TRUE;CN="Richard
  Scott":https://www.southeastwheelsevents.com/profile/RichardScott
END:VEVENT
END:VCALENDAR
