BEGIN:VCALENDAR
PRODID:NingEventWidget-v1
VERSION:2.0
METHOD:PUBLISH
BEGIN:VTIMEZONE
TZID:Pacific/Midway
X-LIC-LOCATION:Pacific/Midway
BEGIN:STANDARD
TZOFFSETFROM:-1100
TZOFFSETTO:-1100
TZNAME:SST
DTSTART:19700101T000000
END:STANDARD
END:VTIMEZONE
BEGIN:VEVENT
UID:5072275:Event:1086225
DTSTAMP:20260423T115009Z
SUMMARY:Toccoa Raceway Weekly Racing Day -Toccoa, GA
DESCRIPTION:T I C K E T S \r\n\r\n\r\nGrandstand: $10      \r\n\r\
 n\r\n\r\n\r\nSeniors 65+ $8  \r\n\r\n\r\n\r\n\r\nActive Military: $8 
       \r\n\r\n\r\n\r\n\r\nKids -Under 10: Free \r\n\r\n\r\n\r\n\r
 \nTrack Side: $25      \r\n\r\n\r\n\r\n\r\nPits: $25\r\n \r\n\r\n\
 r\n\n\nFor more information visit https://www.southeastwheelsevents.co
 m/events/toccoa-raceway-weekly-racing-day-toccoa-ga-1
DTSTART;TZID=Pacific/Midway:20180623T000000
DTEND;TZID=Pacific/Midway:20180623T235900
CATEGORIES:race
LOCATION:Toccoa Raceway
WEBSITE:http://www.toccoaraceway.com
URL:http://www.toccoaraceway.com
CONTACT:7704027234
ORGANIZER:Toccoa Raceway
ATTACH;FMTTYPE="image/jpeg":http://storage.ning.com/topology/rest/1.0/
 file/get/967730758?profile=original
ATTENDEE;ROLE=REQ-PARTICIPANT;PARTSTAT=ACCEPTED;RSVP=TRUE;CN="Chuck Aa
 ron":https://www.southeastwheelsevents.com/profile/ChuckAaron886
END:VEVENT
END:VCALENDAR
