BEGIN:VCALENDAR
PRODID:NingEventWidget-v1
VERSION:2.0
METHOD:PUBLISH
BEGIN:VTIMEZONE
TZID:Pacific/Midway
X-LIC-LOCATION:Pacific/Midway
BEGIN:STANDARD
TZOFFSETFROM:-1100
TZOFFSETTO:-1100
TZNAME:SST
DTSTART:19700101T000000
END:STANDARD
END:VTIMEZONE
BEGIN:VEVENT
UID:5072275:Event:1236766
DTSTAMP:20260422T111532Z
SUMMARY:Toccoa Rotary Club 2nd Annual Car Truck and Bike Show
DESCRIPTION:Judged car, truck, and bike show, Swap meet, food, drink, 
 entertainment, bouncy house and face painting for the kids. Awards for
  top 20 and best of class. \n\nFor more information visit https://www
 .southeastwheelsevents.com/events/toccoa-rotary-club-2nd-annual-car-tr
 uck-and-bike-show
DTSTART;TZID=Pacific/Midway:20220924T090000
DTEND;TZID=Pacific/Midway:20220924T140000
CATEGORIES:fundraiser, proceeds, go, to, feed, the, children, and, toc
 coa, hope, ctr
LOCATION:Toccoa, Ga.
WEBSITE:
URL:
CONTACT:6313745890
ORGANIZER;CN="larry shaw":https://www.southeastwheelsevents.com/profil
 e/larryshaw
ATTACH;FMTTYPE="image/jpeg":
ATTENDEE;ROLE=REQ-PARTICIPANT;PARTSTAT=ACCEPTED;RSVP=TRUE;CN="larry sh
 aw":https://www.southeastwheelsevents.com/profile/larryshaw
END:VEVENT
END:VCALENDAR
