BEGIN:VCALENDAR
PRODID:NingEventWidget-v1
VERSION:2.0
METHOD:PUBLISH
BEGIN:VTIMEZONE
TZID:Pacific/Midway
X-LIC-LOCATION:Pacific/Midway
BEGIN:STANDARD
TZOFFSETFROM:-1100
TZOFFSETTO:-1100
TZNAME:SST
DTSTART:19700101T000000
END:STANDARD
END:VTIMEZONE
BEGIN:VEVENT
UID:5072275:Event:1093514
DTSTAMP:20260423T191508Z
SUMMARY:Tom Bruce Memorial Car Show, Blairsville, Ga.
DESCRIPTION:Honoring Tom Bruce, long time club member and past preside
 nt of the Blairsville Cruisers who passed away in Feb.\nRegistration d
 onation to our \"for the kids\" Christmas fund\nTrophy for BEST FORD. 
 Tom was a Ford guy.\nGreat door prizes and 50/50\nGreat food at resta
 urants on or near the Square\n\nFor more information visit https://ww
 w.southeastwheelsevents.com/events/tom-bruce-memorial-car-show-blairsv
 ille-ga
DTSTART;TZID=Pacific/Midway:20180818T160000
DTEND;TZID=Pacific/Midway:20180818T190000
CATEGORIES:cruise-in, and, show
LOCATION:Historic Square in downtown Blairsville
WEBSITE:
URL:
CONTACT:
ORGANIZER;CN="Richard L. Couture":https://www.southeastwheelsevents.co
 m/profile/RichardLCouture
ATTACH;FMTTYPE="image/jpeg":http://storage.ning.com/topology/rest/1.0/
 file/get/967787896?profile=original
ATTENDEE;ROLE=REQ-PARTICIPANT;PARTSTAT=ACCEPTED;RSVP=TRUE;CN="Richard 
 L. Couture":https://www.southeastwheelsevents.com/profile/RichardLCout
 ure
END:VEVENT
END:VCALENDAR
