BEGIN:VCALENDAR
PRODID:NingEventWidget-v1
VERSION:2.0
METHOD:PUBLISH
BEGIN:VTIMEZONE
TZID:Pacific/Midway
X-LIC-LOCATION:Pacific/Midway
BEGIN:STANDARD
TZOFFSETFROM:-1100
TZOFFSETTO:-1100
TZNAME:SST
DTSTART:19700101T000000
END:STANDARD
END:VTIMEZONE
BEGIN:VEVENT
UID:5072275:Event:1265729
DTSTAMP:20260423T194735Z
SUMMARY:Toy Drive CruisIn To Christmas - Newnan, GA
DESCRIPTION:\r\nCruisIn To Christmas is a Toy Drive and Classic Car Sh
 ow to be held in the Checker's 4th year\n\nFor more information visit 
 https://www.southeastwheelsevents.com/events/toy-drive-cruisin-to-chri
 stmas-newnan-ga
DTSTART;TZID=Pacific/Midway:20241123T120000
DTEND;TZID=Pacific/Midway:20241123T160000
CATEGORIES:car, show, christmas, fundraiser, benefit
LOCATION:Checker's
WEBSITE:
URL:
CONTACT:James 678-633-8566
ORGANIZER:
ATTACH;FMTTYPE="image/jpeg":https://storage.ning.com/topology/rest/1.0
 /file/get/10893048057?profile=original
ATTENDEE;ROLE=REQ-PARTICIPANT;PARTSTAT=ACCEPTED;RSVP=TRUE;CN="Chuck Aa
 ron":https://www.southeastwheelsevents.com/profile/ChuckAaron886
END:VEVENT
END:VCALENDAR
