BEGIN:VCALENDAR
PRODID:NingEventWidget-v1
VERSION:2.0
METHOD:PUBLISH
BEGIN:VTIMEZONE
TZID:Pacific/Midway
X-LIC-LOCATION:Pacific/Midway
BEGIN:STANDARD
TZOFFSETFROM:-1100
TZOFFSETTO:-1100
TZNAME:SST
DTSTART:19700101T000000
END:STANDARD
END:VTIMEZONE
BEGIN:VEVENT
UID:5072275:Event:606309
DTSTAMP:20260420T143122Z
SUMMARY:~Toys 4 Tots~ Charity Car & Bike Show by Speed & Mischief  -ne
 ar Spaghetti Junction
DESCRIPTION:\n\n\nWho doesn't like gifts on Christmas morning, doesn't
  matter what age? Most of us can't wait to open up our gifts as soon a
 s we wake up. While we are enjoying, there are thousands of kids who a
 ren't so fortunate to unwrap a gift on Christmas morning. We can chang
 e that.   12/20/2012 Gwinnett Meet will be hosting:  Toy 4 Tots Chris
 tmas Charity Car & Bike Show. All the toys will be donated to Children
 's Health Care of Atlanta.   Car show registration: $15 per car & $10
  with donation of a New Unwrapped toy Classes: 1. Best Exterior 2. Bes
 t Interior 3. Best Import 4. Best American 5. Best Exotic 6. Best Ice 
 (Entertainment System) 7. Best Engine bay 8. Best Stance 9. Best Overa
 ll 10. Best Bike. 11. Best Truck 12. Best VIP  Each car will be judged
  by the event judges, and public vote. This can be anyone's game, bigg
 er the support for your car, better the chances of you winning.  You c
 an register ahead of time by paypaling $10 (select gift in payment opt
 ions) to Lightning685@yahoo.com. Include: Full Name: Car: Year/Make/Mo
 del Classes: Ex. Interior/Exterior/Ice Phone:    Brought to you by: Sp
 eed & Mischief, Global Auto Gallery For vendor and sponsor inquiries p
 lease email SpeedandMischief@gmail.com\n\n\n\n\nFor more information v
 isit https://www.southeastwheelsevents.com/events/toys-4-tots-charity-
 car-bike-show-by-speed-mischief
DTSTART;TZID=Pacific/Midway:20121223T110000
DTEND;TZID=Pacific/Midway:20121223T150000
CATEGORIES:charity, car, show
LOCATION:Josephine Lounge
WEBSITE:http://www.facebook.com/events/457808197598121
URL:http://www.facebook.com/events/457808197598121
CONTACT:
ORGANIZER;CN="Sunny Malhotra":https://www.southeastwheelsevents.com/pr
 ofile/SunnyMalhotra
ATTACH;FMTTYPE="image/jpeg":http://storage.ning.com/topology/rest/1.0/
 file/get/967631399?profile=original
ATTENDEE;ROLE=REQ-PARTICIPANT;PARTSTAT=ACCEPTED;RSVP=TRUE;CN="Sunny Ma
 lhotra":https://www.southeastwheelsevents.com/profile/SunnyMalhotra
ATTENDEE;ROLE=REQ-PARTICIPANT;PARTSTAT=ACCEPTED;RSVP=TRUE;CN="Michael 
 Thies":https://www.southeastwheelsevents.com/profile/MichaelThies
ATTENDEE;ROLE=REQ-PARTICIPANT;PARTSTAT=TENTATIVE;RSVP=TRUE;CN="T. Bowe
 rs":https://www.southeastwheelsevents.com/profile/TimBowers
END:VEVENT
END:VCALENDAR
