BEGIN:VCALENDAR
PRODID:NingEventWidget-v1
VERSION:2.0
METHOD:PUBLISH
BEGIN:VTIMEZONE
TZID:Pacific/Midway
X-LIC-LOCATION:Pacific/Midway
BEGIN:STANDARD
TZOFFSETFROM:-1100
TZOFFSETTO:-1100
TZNAME:SST
DTSTART:19700101T000000
END:STANDARD
END:VTIMEZONE
BEGIN:VEVENT
UID:5072275:Event:104532
DTSTAMP:20260423T134546Z
SUMMARY:Old National Cruisers Annual Car Show -College Park, GA
DESCRIPTION:\r\n30th Anniversary!\r\nOld National Cruisers Annual s C
 ar Show -Ellenwood, GA Registration Time: 9am  BIG FAMILY FUN!!!!!! BR
 ING KIDS GAMES FOR ALL AGES!!!!!!! FREE GIVEAWAYS EVERY HOUR!!!!!!!!! 
 50/50 DRAWING FOR A CASH PRIZE!!!!!!!!!\r\nJerome Wilkey & Bobby Green
 e\n\nFor more information visit https://www.southeastwheelsevents.com/
 events/toys-for-tots-car-show-old
DTSTART;TZID=Pacific/Midway:20240601T090000
DTEND;TZID=Pacific/Midway:20240601T150000
CATEGORIES:car-show, benefit
LOCATION:3265 Jones Road
WEBSITE:http://oldnationalcruisers.org/
URL:http://oldnationalcruisers.org/
CONTACT:(404) 346-3146 OR (678) 907-7729
ORGANIZER:Old National Cruisers
ATTACH;FMTTYPE="image/jpeg":http://storage.ning.com/topology/rest/1.0/
 file/get/967584911?profile=original
ATTENDEE;ROLE=REQ-PARTICIPANT;PARTSTAT=ACCEPTED;RSVP=TRUE;CN="Bobby Gr
 een":https://www.southeastwheelsevents.com/profile/BobbyGreen
END:VEVENT
END:VCALENDAR
