BEGIN:VCALENDAR
PRODID:NingEventWidget-v1
VERSION:2.0
METHOD:PUBLISH
BEGIN:VTIMEZONE
TZID:Pacific/Midway
X-LIC-LOCATION:Pacific/Midway
BEGIN:STANDARD
TZOFFSETFROM:-1100
TZOFFSETTO:-1100
TZNAME:SST
DTSTART:19700101T000000
END:STANDARD
END:VTIMEZONE
BEGIN:VEVENT
UID:5072275:Event:1070234
DTSTAMP:20260419T113545Z
SUMMARY:Toys for Tots Cruise-In at the Varsity Gwinnett, Norcross, GA
DESCRIPTION:Our November Cruise-In at the Varsity Gwinnett will be a T
 oys for Tots Collection Event!\nCome enjoy a Chili Dog and help us hel
 p the Kids for the Holidays. Please bring a new unwrapped toy(s) or a 
 cash donation. We will have our favorite group of elves (retired Marin
 es) on hand to help collect and haul off the goodies!\nWe will also ha
 ve our great music PLUS we have brought back our Sponsor and Hosts awa
 rds (total of 5 awards).\nMake your plans and bring your friends!\n\nF
 or more information visit https://www.southeastwheelsevents.com/events
 /toys-for-tots-cruise-in-at-the-varsity-gwinnett-norcross-ga
DTSTART;TZID=Pacific/Midway:20171119T160000
DTEND;TZID=Pacific/Midway:20171119T190000
CATEGORIES:cruise-in, toys, for, tots, collection
LOCATION:The Varsity Gwinnett
WEBSITE:http://www.GeorgiaCoolCruisers.org
URL:http://www.GeorgiaCoolCruisers.org
CONTACT:404-732-6842
ORGANIZER;CN="Rick Ellis":https://www.southeastwheelsevents.com/profil
 e/RickEllis
ATTACH;FMTTYPE="image/jpeg":http://storage.ning.com/topology/rest/1.0/
 file/get/967753121?profile=original
ATTENDEE;ROLE=REQ-PARTICIPANT;PARTSTAT=ACCEPTED;RSVP=TRUE;CN="Michael 
 Thies":https://www.southeastwheelsevents.com/profile/MichaelThies
ATTENDEE;ROLE=REQ-PARTICIPANT;PARTSTAT=ACCEPTED;RSVP=TRUE;CN="Jeffrey 
 Rutherford":https://www.southeastwheelsevents.com/profile/JeffreyRuthe
 rford866
ATTENDEE;ROLE=REQ-PARTICIPANT;PARTSTAT=ACCEPTED;RSVP=TRUE;CN="Fred Bot
 ts":https://www.southeastwheelsevents.com/profile/FredBotts
ATTENDEE;ROLE=REQ-PARTICIPANT;PARTSTAT=ACCEPTED;RSVP=TRUE;CN="Rick Ell
 is":https://www.southeastwheelsevents.com/profile/RickEllis
END:VEVENT
END:VCALENDAR
