BEGIN:VCALENDAR
PRODID:NingEventWidget-v1
VERSION:2.0
METHOD:PUBLISH
BEGIN:VTIMEZONE
TZID:Pacific/Midway
X-LIC-LOCATION:Pacific/Midway
BEGIN:STANDARD
TZOFFSETFROM:-1100
TZOFFSETTO:-1100
TZNAME:SST
DTSTART:19700101T000000
END:STANDARD
END:VTIMEZONE
BEGIN:VEVENT
UID:5072275:Event:1072589
DTSTAMP:20260423T115002Z
SUMMARY:Tri-Five Reunion
DESCRIPTION:Car show for 55-57 Chevy;s with Awards , DJ , Judges and s
 wap meet. Vendors welcome , any questions call 423-608-4519.\n\nFor mo
 re information visit https://www.southeastwheelsevents.com/events/tri-
 five-reunion-1
DTSTART;TZID=Pacific/Midway:20180622T080000
DTEND;TZID=Pacific/Midway:20180623T160000
CATEGORIES:car, show, and, swap, meet
LOCATION:Maggie Valley Festival Grounds
WEBSITE:http://www.surfboardpromotion.com
URL:http://www.surfboardpromotion.com
CONTACT:4236084519
ORGANIZER;CN="rodney buckner":https://www.southeastwheelsevents.com/pr
 ofile/rodneybuckner
ATTACH;FMTTYPE="image/jpeg":http://storage.ning.com/topology/rest/1.0/
 file/get/967761001?profile=original
ATTENDEE;ROLE=REQ-PARTICIPANT;PARTSTAT=ACCEPTED;RSVP=TRUE;CN="rodney b
 uckner":https://www.southeastwheelsevents.com/profile/rodneybuckner
END:VEVENT
END:VCALENDAR
