BEGIN:VCALENDAR
PRODID:NingEventWidget-v1
VERSION:2.0
METHOD:PUBLISH
BEGIN:VTIMEZONE
TZID:Pacific/Midway
X-LIC-LOCATION:Pacific/Midway
BEGIN:STANDARD
TZOFFSETFROM:-1100
TZOFFSETTO:-1100
TZNAME:SST
DTSTART:19700101T000000
END:STANDARD
END:VTIMEZONE
BEGIN:VEVENT
UID:5072275:Event:701175
DTSTAMP:20260424T105301Z
SUMMARY:Troop 75 Rally in The Valley Car, Truck, and Motorcycle Show -
 Fletcher, NC
DESCRIPTION:October 5, 2013 Fletcher, North Carolina Boy Scout Troop 
 75 Rally in The Valley Car, Truck, and Motorcycle Show at 1 Okoboji D
 rive from 10 a.m.- 3 p.m. Info: Tracy Cole 828.628.4409 or 828.776.295
 2.\n\nFor more information visit https://www.southeastwheelsevents.com
 /events/troop-75-rally-in-the-valley-car-truck-and-motorcycle-show-fle
 tch
DTSTART;TZID=Pacific/Midway:20131005T100000
DTEND;TZID=Pacific/Midway:20131005T150000
CATEGORIES:car, truck, and, motorcycle, show
LOCATION:Scout Troop 75
WEBSITE:
URL:
CONTACT:828.628.4409 or 828.776.2952.
ORGANIZER:Tracy Cole
ATTACH;FMTTYPE="image/jpeg":
ATTENDEE;ROLE=REQ-PARTICIPANT;PARTSTAT=ACCEPTED;RSVP=TRUE;CN="Jack Tho
 mas":https://www.southeastwheelsevents.com/profile/JackThomas
END:VEVENT
END:VCALENDAR
