BEGIN:VCALENDAR
PRODID:NingEventWidget-v1
VERSION:2.0
METHOD:PUBLISH
BEGIN:VTIMEZONE
TZID:Pacific/Midway
X-LIC-LOCATION:Pacific/Midway
BEGIN:STANDARD
TZOFFSETFROM:-1100
TZOFFSETTO:-1100
TZNAME:SST
DTSTART:19700101T000000
END:STANDARD
END:VTIMEZONE
BEGIN:VEVENT
UID:5072275:Event:1029628
DTSTAMP:20260419T151617Z
SUMMARY:Troup County Sheriff's Office 8th Annual Car Show
DESCRIPTION:\nTroup County Sheriff's Office 8th Annual Car Show benefi
 ting Georgia Sheriffs Youth Home \"Pineland\". Saturday, May 06,2017 9
 am-2pm at Pyne Road Park located at 4481 Roanoke Rd. LaGrange,Ga.30240
 . 50/50,DJ, Trophies, Food, Money Tree, Door prizes. All cars, trucks 
 & motorcycles are welcome.\n\n \n\n\n\n\nFor more information visit h
 ttps://www.southeastwheelsevents.com/events/troup-county-sheriff-s-off
 ice-8th-annual-car-show
DTSTART;TZID=Pacific/Midway:20170506T090000
DTEND;TZID=Pacific/Midway:20170506T140000
CATEGORIES:car, show
LOCATION:Pyne Rd. Park
WEBSITE:
URL:
CONTACT:706-883-1616
ORGANIZER;CN="Charles Nixon":https://www.southeastwheelsevents.com/pro
 file/CharlesNixon
ATTACH;FMTTYPE="image/jpeg":http://storage.ning.com/topology/rest/1.0/
 file/get/967735943?profile=original
ATTENDEE;ROLE=REQ-PARTICIPANT;PARTSTAT=ACCEPTED;RSVP=TRUE;CN="Charles 
 Nixon":https://www.southeastwheelsevents.com/profile/CharlesNixon
END:VEVENT
END:VCALENDAR
