BEGIN:VCALENDAR
PRODID:NingEventWidget-v1
VERSION:2.0
METHOD:PUBLISH
BEGIN:VTIMEZONE
TZID:Pacific/Midway
X-LIC-LOCATION:Pacific/Midway
BEGIN:STANDARD
TZOFFSETFROM:-1100
TZOFFSETTO:-1100
TZNAME:SST
DTSTART:19700101T000000
END:STANDARD
END:VTIMEZONE
BEGIN:VEVENT
UID:5072275:Event:1262911
DTSTAMP:20260419T115638Z
SUMMARY:Tucker Cruise In -Tucker, GA
DESCRIPTION:The Tucker Cruise-in is an old fashioned town meet and gre
 et of the car community on Main Street in Tucker Georgia. Each Cruise-
 in takes place the second Saturday of every month from April to Septem
 ber. The events run from 10am to 1p.m.  We have vehicles ranging from 
 antiques to street rods, motorcycles to imports. For a $5 registration
  fee, we have a place for you to show off what you've got!  For more i
 nformation about the Tucker Cruise-In's, please call 770-527-1521 or v
 isit www.tuckercruisein.com\n\nFor more information visit https://www.
 southeastwheelsevents.com/events/tucker-cruise-in-tucker-ga-3
DTSTART;TZID=Pacific/Midway:20260509T100000
DTEND;TZID=Pacific/Midway:20260509T140000
CATEGORIES:cruise, in
LOCATION:Main Street, Tucker
WEBSITE:http://www.tuckercruisein.com
URL:http://www.tuckercruisein.com
CONTACT:678-283-3842
ORGANIZER:Tucker Cruise In
ATTACH;FMTTYPE="image/jpeg":http://storage.ning.com/topology/rest/1.0/
 file/get/967738516?profile=original
ATTENDEE;ROLE=REQ-PARTICIPANT;PARTSTAT=ACCEPTED;RSVP=TRUE;CN="Chuck Aa
 ron":https://www.southeastwheelsevents.com/profile/ChuckAaron886
ATTENDEE;ROLE=REQ-PARTICIPANT;PARTSTAT=TENTATIVE;RSVP=TRUE;CN="John Ba
 ker":https://www.southeastwheelsevents.com/profile/JohnJBaker
END:VEVENT
END:VCALENDAR
