BEGIN:VCALENDAR
PRODID:NingEventWidget-v1
VERSION:2.0
METHOD:PUBLISH
BEGIN:VTIMEZONE
TZID:Pacific/Midway
X-LIC-LOCATION:Pacific/Midway
BEGIN:STANDARD
TZOFFSETFROM:-1100
TZOFFSETTO:-1100
TZNAME:SST
DTSTART:19700101T000000
END:STANDARD
END:VTIMEZONE
BEGIN:VEVENT
UID:5072275:Event:1026036
DTSTAMP:20260420T063456Z
SUMMARY:Tuesday Red Riders' Breakfast Ride
DESCRIPTION:The Tuesday Red Riders' breakfast ride meet about 7:30 AM 
 for coffee at the McDonalds near the intersection of Taylor Rd and Wil
 liamson (by Publix and Kohls). Depart at 8 AM and ride to a different 
 restaurant for Breakfast (usually 25-50 miles away) each week. End tim
 e may subject to change.\n\nFor more information visit https://www.sou
 theastwheelsevents.com/events/tuesday-red-riders-breakfast-ride
DTSTART;TZID=Pacific/Midway:20161220T080000
DTEND;TZID=Pacific/Midway:20161220T100000
CATEGORIES:motorcycles, "clubs/shows/cruises"
LOCATION:McDonald's
WEBSITE:http://daytonabmwriders.com/rides.htm
URL:http://daytonabmwriders.com/rides.htm
CONTACT:
ORGANIZER:
ATTACH;FMTTYPE="image/jpeg":http://storage.ning.com/topology/rest/1.0/
 file/get/967722302?profile=original
ATTENDEE;ROLE=REQ-PARTICIPANT;PARTSTAT=ACCEPTED;RSVP=TRUE;CN="Chris go
 sney":https://www.southeastwheelsevents.com/profile/Chrisgosney
END:VEVENT
END:VCALENDAR
