BEGIN:VCALENDAR
PRODID:NingEventWidget-v1
VERSION:2.0
METHOD:PUBLISH
BEGIN:VTIMEZONE
TZID:Pacific/Midway
X-LIC-LOCATION:Pacific/Midway
BEGIN:STANDARD
TZOFFSETFROM:-1100
TZOFFSETTO:-1100
TZNAME:SST
DTSTART:19700101T000000
END:STANDARD
END:VTIMEZONE
BEGIN:VEVENT
UID:5072275:Event:1024930
DTSTAMP:20260420T104422Z
SUMMARY:Tuesday Weekly Dealers Auto Auction - Huntsville
DESCRIPTION:Tuesday Weekly Dealers Auto Auction - Huntsville will be h
 eld at Dealers Auto Auction - Huntsville, Athens, AL. showcase fleet/l
 ease offerings from the top names in remarketing, as well as bank repo
 s from every major financial institution in North Alabama and througho
 ut the Southeast. Auction starts at 9.00am. End time may change.\n\nFo
 r more information visit https://www.southeastwheelsevents.com/events/
 tuesday-weekly-dealers-auto-auction-huntsville-1
DTSTART;TZID=Pacific/Midway:20161220T090000
DTEND;TZID=Pacific/Midway:20161220T140000
CATEGORIES:business, cars, "auction/swap"
LOCATION:Dealers Auto Auction - Huntsville
WEBSITE:https://www.dealersauto.com/calendar/
URL:https://www.dealersauto.com/calendar/
CONTACT:
ORGANIZER:Dealer's Auto Auction - Mobile
ATTACH;FMTTYPE="image/jpeg":
ATTENDEE;ROLE=REQ-PARTICIPANT;PARTSTAT=ACCEPTED;RSVP=TRUE;CN="Chris go
 sney":https://www.southeastwheelsevents.com/profile/Chrisgosney
END:VEVENT
END:VCALENDAR
