BEGIN:VCALENDAR
PRODID:NingEventWidget-v1
VERSION:2.0
METHOD:PUBLISH
BEGIN:VTIMEZONE
TZID:Pacific/Midway
X-LIC-LOCATION:Pacific/Midway
BEGIN:STANDARD
TZOFFSETFROM:-1100
TZOFFSETTO:-1100
TZNAME:SST
DTSTART:19700101T000000
END:STANDARD
END:VTIMEZONE
BEGIN:VEVENT
UID:5072275:Event:946455
DTSTAMP:20260423T035956Z
SUMMARY:Tune Into Live Stream Coverage Of Chevrolet Media Preview at S
 EMA
DESCRIPTION:Among the most anticipated displays is Chevrolet’s Media
  Preview, on Monday November 2, at 6:30 PM PST ( 9:30pm EST ) Power Au
 tomedia will be live streaming this sneak peak view into the bowtie’
 s breaking SEMA news. Tune into our exclusive live stream Monday eveni
 ng, and attend the media preview from the comfort of your home.  Sign
  into https://theblock.com/sema  early so you will not miss the pre
 ss confrence. \n\nFor more information visit https://www.southeastwhe
 elsevents.com/events/tune-into-live-stream-coverage-of-chevrolet-media
 -preview-at-sema
DTSTART;TZID=Pacific/Midway:20151102T213000
DTEND;TZID=Pacific/Midway:20151102T220000
CATEGORIES:chevy, press, confrenece, from, sema
LOCATION:On line from SEMA Las Vegas
WEBSITE:https://theblock.com/sema
URL:https://theblock.com/sema
CONTACT:
ORGANIZER:Chevrolet
ATTACH;FMTTYPE="image/jpeg":http://storage.ning.com/topology/rest/1.0/
 file/get/967699591?profile=original
ATTENDEE;ROLE=REQ-PARTICIPANT;PARTSTAT=ACCEPTED;RSVP=TRUE;CN="James Fr
 anko":https://www.southeastwheelsevents.com/profile/JamesFranko
ATTENDEE;ROLE=REQ-PARTICIPANT;PARTSTAT=ACCEPTED;RSVP=TRUE;CN="Pamela H
 irschhorn":https://www.southeastwheelsevents.com/profile/PamelaHirschh
 orn
END:VEVENT
END:VCALENDAR
