BEGIN:VCALENDAR
PRODID:NingEventWidget-v1
VERSION:2.0
METHOD:PUBLISH
BEGIN:VTIMEZONE
TZID:Pacific/Midway
X-LIC-LOCATION:Pacific/Midway
BEGIN:STANDARD
TZOFFSETFROM:-1100
TZOFFSETTO:-1100
TZNAME:SST
DTSTART:19700101T000000
END:STANDARD
END:VTIMEZONE
BEGIN:VEVENT
UID:5072275:Event:1049236
DTSTAMP:20260420T025308Z
SUMMARY:Tupelo Crusie In -Tupelo, MS
DESCRIPTION:\n\n\nJoin us inÂ May!\nThe 2017 Blue Suede Cruise is sche
 duled forÂ May 5Â â€“ May 7, 2017Â and we look forward to seeing all o
 f you as even more antique and classic cars*, and drivers head back to
  the â€™50s and â€™60s withÂ classic car shows and contests, excitingÂ
  entertainment, and fun for the whole family!\nWe are giving away $10,
 000 in 2017!\nThis year, we will be giving awayÂ 20Â $500 prizes.Â Cli
 ck hereÂ to learn more!\n\n\nWho can enter?\nAll cars must be 1992 mod
 el year or older Exceptions: all Corvettes, Camaros, T-Birds, Firebird
 , Thunderbirds, Mustangs, Challengers, Chargers,Â Monte Carlo SS,Â Che
 vy SS454 pickups,Â Ford Lightning pickups,Â Vipers, or Prowlers are el
 igible of any year.\n\n\n\nFor more information visit https://www.sout
 heastwheelsevents.com/events/tupelo-crusie-in-tupelo-ms
DTSTART;TZID=Pacific/Midway:20170505T000000
DTEND;TZID=Pacific/Midway:20170507T235900
CATEGORIES:car, show, festival, meet
LOCATION:Main Street
WEBSITE:http://www.bluesc.com
URL:http://www.bluesc.com
CONTACT:662-213-8873   info@bluesc.com
ORGANIZER:Tupelo Crusie In
ATTACH;FMTTYPE="image/jpeg":http://storage.ning.com/topology/rest/1.0/
 file/get/967745991?profile=original
ATTENDEE;ROLE=REQ-PARTICIPANT;PARTSTAT=ACCEPTED;RSVP=TRUE;CN="Chuck Aa
 ron":https://www.southeastwheelsevents.com/profile/ChuckAaron886
END:VEVENT
END:VCALENDAR
