BEGIN:VCALENDAR
PRODID:NingEventWidget-v1
VERSION:2.0
METHOD:PUBLISH
BEGIN:VTIMEZONE
TZID:Pacific/Midway
X-LIC-LOCATION:Pacific/Midway
BEGIN:STANDARD
TZOFFSETFROM:-1100
TZOFFSETTO:-1100
TZNAME:SST
DTSTART:19700101T000000
END:STANDARD
END:VTIMEZONE
BEGIN:VEVENT
UID:5072275:Event:1099348
DTSTAMP:20260420T061633Z
SUMMARY:Turning Point United Methodist Church 3rd Annual Car Show - Lo
 cust Fork, Al
DESCRIPTION:Turning Point United Methodist Church 3rd Annual Car Show 
 on Tabernacle Rd.\n\nFor more information visit https://www.southeastw
 heelsevents.com/events/turning-point-united-methodist-church-3rd-annua
 l-car-show-locust
DTSTART;TZID=Pacific/Midway:20180922T090000
DTEND;TZID=Pacific/Midway:20180922T140000
CATEGORIES:car, show, cruise, in
LOCATION:Turning Point United Methodist Church,
WEBSITE:https://www.google.co.in/maps/place/Turning+Point+United+Metho
 dist+Church/@33.9028016,-86.6385928,17z/data=!3m1!4b1!4m5!3m4!1s0x8889
 a3141f8a5ea5:0x21a84e513453d1ba!8m2!3d33.9028016!4d-86.6364041
URL:https://www.google.co.in/maps/place/Turning+Point+United+Methodist
 +Church/@33.9028016,-86.6385928,17z/data=!3m1!4b1!4m5!3m4!1s0x8889a314
 1f8a5ea5:0x21a84e513453d1ba!8m2!3d33.9028016!4d-86.6364041
CONTACT:(205) 680-0351
ORGANIZER:Lonnie
ATTACH;FMTTYPE="image/jpeg":http://storage.ning.com/topology/rest/1.0/
 file/get/967793163?profile=original
ATTENDEE;ROLE=REQ-PARTICIPANT;PARTSTAT=ACCEPTED;RSVP=TRUE;CN="Anthony 
 Hopkins":https://www.southeastwheelsevents.com/profile/AnthonyHopkins
END:VEVENT
END:VCALENDAR
