BEGIN:VCALENDAR
PRODID:NingEventWidget-v1
VERSION:2.0
METHOD:PUBLISH
BEGIN:VTIMEZONE
TZID:Pacific/Midway
X-LIC-LOCATION:Pacific/Midway
BEGIN:STANDARD
TZOFFSETFROM:-1100
TZOFFSETTO:-1100
TZNAME:SST
DTSTART:19700101T000000
END:STANDARD
END:VTIMEZONE
BEGIN:VEVENT
UID:5072275:Event:699747
DTSTAMP:20260419T013159Z
SUMMARY:Twisted Minis Truck, Car & Bike Show -Concord, NC
DESCRIPTION:Twisted Minis Truck, Car & Bike Show -Concord, NC\nRegistr
 ation: $10 with a toy; $20 without - Toys For Tots\nKid Games, Truck L
 imbo, Corn Hole, Door Prizes\n50/50 & Top Awards - 21 Trophies\nIASCA 
 & DB Drag Event by Carolina SPL\n\nFor more information visit https://
 www.southeastwheelsevents.com/events/twisted-minis-truck-car-bike-show
 -concord-nc
DTSTART;TZID=Pacific/Midway:20131103T140000
DTEND;TZID=Pacific/Midway:20131103T200000
CATEGORIES:truck, car, "&", bike, show
LOCATION:Quaker Steak & Lube
WEBSITE:https://www.facebook.com/pages/Twisted-Minis-Truck-and-Car-Clu
 b/158729720826640
URL:https://www.facebook.com/pages/Twisted-Minis-Truck-and-Car-Club/15
 8729720826640
CONTACT:(704) 979-5823
ORGANIZER:Twisted Minis Car & Truck Club
ATTACH;FMTTYPE="image/jpeg":http://storage.ning.com/topology/rest/1.0/
 file/get/967645832?profile=original
ATTENDEE;ROLE=REQ-PARTICIPANT;PARTSTAT=ACCEPTED;RSVP=TRUE;CN="Jack Tho
 mas":https://www.southeastwheelsevents.com/profile/JackThomas
END:VEVENT
END:VCALENDAR
