BEGIN:VCALENDAR
PRODID:NingEventWidget-v1
VERSION:2.0
METHOD:PUBLISH
BEGIN:VTIMEZONE
TZID:Pacific/Midway
X-LIC-LOCATION:Pacific/Midway
BEGIN:STANDARD
TZOFFSETFROM:-1100
TZOFFSETTO:-1100
TZNAME:SST
DTSTART:19700101T000000
END:STANDARD
END:VTIMEZONE
BEGIN:VEVENT
UID:5072275:Event:338021
DTSTAMP:20260419T053108Z
SUMMARY:TWISTED TAVERN's FILLER UP CAR, TRUCK & BIKE SHOW  Suwanee, Ga
 .
DESCRIPTION:AT THE OTHER LOCATION\nTwisted Tavern\n105 Horizon drive\n
 Suwanee, Ga. 30024\n \nFiller Up Car, Truck & Bike Show\nRegistration
  1:00 to 3:00 Awards at 5:30\nRegistration fee $15.00\nBest in Show\nT
 op 15\nTop 10 2000 and Up\nBest Bike\n Home of the $2.00 Burgers & $1
 .00 Hot Dogs\nJeff the DJ  50/50 + (3) $20.00 Gas Cards, Door Prizes
 \nFor More Information Call Richard \"Gunny\" Scott\n@ 770-316-1040 or
  www.prowlerboy.com\n \n\nFor more information visit https://www.sout
 heastwheelsevents.com/events/twisted-tavern-s-filler-up-car
DTSTART;TZID=Pacific/Midway:20110925T140000
DTEND;TZID=Pacific/Midway:20110925T183000
CATEGORIES:car, show
LOCATION:Twisted Tavren
WEBSITE:http://maps.google.com/maps?q=105+Horzion+Drive+Suwanee,+Ga.+3
 0024&hl=en&ll=34.028869,-84.03717&spn=0.01163,0.017037&sll=37.0625,-95
 .677068&sspn=22.848409,34.892578&z=15
URL:http://maps.google.com/maps?q=105+Horzion+Drive+Suwanee,+Ga.+30024
 &hl=en&ll=34.028869,-84.03717&spn=0.01163,0.017037&sll=37.0625,-95.677
 068&sspn=22.848409,34.892578&z=15
CONTACT:770-316-1040
ORGANIZER;CN="Richard Scott":https://www.southeastwheelsevents.com/pro
 file/RichardScott
ATTACH;FMTTYPE="image/jpeg":http://storage.ning.com/topology/rest/1.0/
 file/get/967593587?profile=original
ATTENDEE;ROLE=REQ-PARTICIPANT;PARTSTAT=ACCEPTED;RSVP=TRUE;CN="Eric Cam
 pbell":https://www.southeastwheelsevents.com/profile/EricCampbell
ATTENDEE;ROLE=REQ-PARTICIPANT;PARTSTAT=ACCEPTED;RSVP=TRUE;CN="Dan Blac
 k":https://www.southeastwheelsevents.com/profile/DanBlack
ATTENDEE;ROLE=REQ-PARTICIPANT;PARTSTAT=ACCEPTED;RSVP=TRUE;CN="Merritt 
 Graham":https://www.southeastwheelsevents.com/profile/MerrittGraham
ATTENDEE;ROLE=REQ-PARTICIPANT;PARTSTAT=ACCEPTED;RSVP=TRUE;CN="James Ma
 rkley":https://www.southeastwheelsevents.com/profile/JamesMarkley
ATTENDEE;ROLE=REQ-PARTICIPANT;PARTSTAT=ACCEPTED;RSVP=TRUE;CN="Bob Hart
 man":https://www.southeastwheelsevents.com/profile/BobHartman
ATTENDEE;ROLE=REQ-PARTICIPANT;PARTSTAT=ACCEPTED;RSVP=TRUE;CN="Hugh Dud
 ley":https://www.southeastwheelsevents.com/profile/HughDudley
ATTENDEE;ROLE=REQ-PARTICIPANT;PARTSTAT=ACCEPTED;RSVP=TRUE;CN="Ed Mistr
 etta":https://www.southeastwheelsevents.com/profile/EdMistretta
ATTENDEE;ROLE=REQ-PARTICIPANT;PARTSTAT=ACCEPTED;RSVP=TRUE;CN="Michael 
 Ruffalo":https://www.southeastwheelsevents.com/profile/MichaelRuffalo
ATTENDEE;ROLE=REQ-PARTICIPANT;PARTSTAT=ACCEPTED;RSVP=TRUE;CN="Jeff Rut
 herford":https://www.southeastwheelsevents.com/profile/JeffreyRutherfo
 rd
ATTENDEE;ROLE=REQ-PARTICIPANT;PARTSTAT=ACCEPTED;RSVP=TRUE;CN="Darlene 
 Scott":https://www.southeastwheelsevents.com/profile/Darlene
ATTENDEE;ROLE=REQ-PARTICIPANT;PARTSTAT=ACCEPTED;RSVP=TRUE;CN="Richard 
 Scott":https://www.southeastwheelsevents.com/profile/RichardScott
ATTENDEE;ROLE=REQ-PARTICIPANT;PARTSTAT=ACCEPTED;RSVP=TRUE;CN="larry sh
 aw":https://www.southeastwheelsevents.com/profile/larryshaw
ATTENDEE;ROLE=REQ-PARTICIPANT;PARTSTAT=TENTATIVE;RSVP=TRUE;CN="Rodney 
 Wallin":https://www.southeastwheelsevents.com/profile/Rodneywallin
ATTENDEE;ROLE=REQ-PARTICIPANT;PARTSTAT=TENTATIVE;RSVP=TRUE;CN=cellis80
 5:https://www.southeastwheelsevents.com/profile/cellis805
ATTENDEE;ROLE=REQ-PARTICIPANT;PARTSTAT=TENTATIVE;RSVP=TRUE;CN="Neil Ha
 nna":https://www.southeastwheelsevents.com/profile/NeilHanna
ATTENDEE;ROLE=REQ-PARTICIPANT;PARTSTAT=TENTATIVE;RSVP=TRUE;CN=Keith:ht
 tps://www.southeastwheelsevents.com/profile/Keith
ATTENDEE;ROLE=REQ-PARTICIPANT;PARTSTAT=TENTATIVE;RSVP=TRUE;CN="Mike Da
 ly Sr":https://www.southeastwheelsevents.com/profile/MikeDalySr
ATTENDEE;ROLE=REQ-PARTICIPANT;PARTSTAT=TENTATIVE;RSVP=TRUE;CN="Logan P
 itosky":https://www.southeastwheelsevents.com/profile/LoganPitosky
ATTENDEE;ROLE=REQ-PARTICIPANT;PARTSTAT=TENTATIVE;RSVP=TRUE;CN="Lenny  
    Major":https://www.southeastwheelsevents.com/profile/LennyMajor
ATTENDEE;ROLE=REQ-PARTICIPANT;PARTSTAT=TENTATIVE;RSVP=TRUE;CN="Lane Ba
 iley":https://www.southeastwheelsevents.com/profile/LaneBailey
END:VEVENT
END:VCALENDAR
