BEGIN:VCALENDAR
PRODID:NingEventWidget-v1
VERSION:2.0
METHOD:PUBLISH
BEGIN:VTIMEZONE
TZID:Pacific/Midway
X-LIC-LOCATION:Pacific/Midway
BEGIN:STANDARD
TZOFFSETFROM:-1100
TZOFFSETTO:-1100
TZNAME:SST
DTSTART:19700101T000000
END:STANDARD
END:VTIMEZONE
BEGIN:VEVENT
UID:5072275:Event:483829
DTSTAMP:20260419T020049Z
SUMMARY:TWs Club Meeting - Flowery Branch, GA
DESCRIPTION:We have made arrangements  for us to use the backroom at 
 Knuckleheads Pub in Flowery Branch  this Saturday 1pm to 4pm.  Thei
 r website has a map for directions if needed.   http://g.co/maps/74
 z9m this is the Google map for Knuckle Heads www.knuckleheadspub.com
 \n\nFor more information visit https://www.southeastwheelsevents.com/e
 vents/tws-club-meeting-flowery-branch-ga
DTSTART;TZID=Pacific/Midway:20120324T130000
DTEND;TZID=Pacific/Midway:20120324T160000
CATEGORIES:meeting
LOCATION:Knuckleheads Pub
WEBSITE:http://www.knuckleheadspub.com
URL:http://www.knuckleheadspub.com
CONTACT:http://southeastwheelsevents.com/group/thetrophywhores
ORGANIZER:TWs
ATTACH;FMTTYPE="image/jpeg":http://storage.ning.com/topology/rest/1.0/
 file/get/967610169?profile=original
ATTENDEE;ROLE=REQ-PARTICIPANT;PARTSTAT=ACCEPTED;RSVP=TRUE;CN="Ed Mistr
 etta":https://www.southeastwheelsevents.com/profile/EdMistretta
ATTENDEE;ROLE=REQ-PARTICIPANT;PARTSTAT=ACCEPTED;RSVP=TRUE;CN="Dan Blac
 k":https://www.southeastwheelsevents.com/profile/DanBlack
ATTENDEE;ROLE=REQ-PARTICIPANT;PARTSTAT=ACCEPTED;RSVP=TRUE;CN="Michael 
 Thies":https://www.southeastwheelsevents.com/profile/MichaelThies
END:VEVENT
END:VCALENDAR
