BEGIN:VCALENDAR
PRODID:NingEventWidget-v1
VERSION:2.0
METHOD:PUBLISH
BEGIN:VTIMEZONE
TZID:Pacific/Midway
X-LIC-LOCATION:Pacific/Midway
BEGIN:STANDARD
TZOFFSETFROM:-1100
TZOFFSETTO:-1100
TZNAME:SST
DTSTART:19700101T000000
END:STANDARD
END:VTIMEZONE
BEGIN:VEVENT
UID:5072275:Event:1088804
DTSTAMP:20260423T150753Z
SUMMARY:TWT - TwoWheelThursday Bike Night -Athens, GA
DESCRIPTION:\r\nOne of NE Georgia’s BIGGEST and most talked about bi
 ke nights for the past several years now. So if you’ve been to TWT t
 hen I'm sure we’ll see you again , and if you haven’t been yet… 
 we really look forward to meeting you soon!   Everyones invited to co
 me out and join the fun . The flier says it all, with LIVE MUSIC and H
 OT FOOD options that change monthly… Plus sign up for the RANDOM gam
 e for a chance to win lots of FREE raffles and prizes… and there alw
 ays the ice cold $2 pints on draft served by the Blind Big Tavern girl
 s… Share and invite your friends list…   This is a FREE EVENT tha
 t is open to ALL old bikers, new bikers, future bikers, non-bikers or 
 anyone that wants to come hangout and party with us at TWT Bike Night.
 \n\nFor more information visit https://www.southeastwheelsevents.com/e
 vents/twt-twowheelthursday-bike-night-athens-ga-1
DTSTART;TZID=Pacific/Midway:20180726T180000
DTEND;TZID=Pacific/Midway:20180726T210000
CATEGORIES:bike, night, show, crusie, in
LOCATION:Cycle World of Athens
WEBSITE:https://www.cycleworldathens.com/
URL:https://www.cycleworldathens.com/
CONTACT:(800) 785-1292
ORGANIZER:Cycle World of Athens
ATTACH;FMTTYPE="image/jpeg":http://storage.ning.com/topology/rest/1.0/
 file/get/967778104?profile=original
ATTENDEE;ROLE=REQ-PARTICIPANT;PARTSTAT=ACCEPTED;RSVP=TRUE;CN="Chuck Aa
 ron":https://www.southeastwheelsevents.com/profile/ChuckAaron886
END:VEVENT
END:VCALENDAR
