BEGIN:VCALENDAR
PRODID:NingEventWidget-v1
VERSION:2.0
METHOD:PUBLISH
BEGIN:VTIMEZONE
TZID:Pacific/Midway
X-LIC-LOCATION:Pacific/Midway
BEGIN:STANDARD
TZOFFSETFROM:-1100
TZOFFSETTO:-1100
TZNAME:SST
DTSTART:19700101T000000
END:STANDARD
END:VTIMEZONE
BEGIN:VEVENT
UID:5072275:Event:1236304
DTSTAMP:20260424T160130Z
SUMMARY:Ultimate Karting Experience - CAFFEINE & OCTANE LANIER RACEWAY
  -Braselton, GA
DESCRIPTION:\r\nKARTING EXPERIENCE [WEEKEND TICKETS]- CAFFEINE & OCTAN
 E LANIER RACEWAY\r\nEvent\r\nTRACK\r\n$ 35.00\r\n\r\nJoin us for the u
 ltimate Karting Experience.  Located across from Michelin Raceway Roa
 d outside Atlanta, Caffeine & Octane Lanier Raceway takes Karting to 
 the next level.  Incorporating a banked oval & paved infield in a roa
 d-course track layout. The track configuration is changed often provid
 ing an amazing variety of karting courses. The track length can be var
 ied between 0.3 to 1.2 miles and is typically around 1/2 mile. Track l
 ights allow for night racing.\r\n*Unique course designs for 10 minute 
 heat races\r\nWith 30+ highly responsive, Dino karts, the C&O Karting
  Experience is perfect for fun nights out, corporate events, & private
  parties, & more.\r\nKARTING HOURS:  PLEASE SEE CAFFEINE & OCTANE E
 VENT CALENDAR\r\nWEEKEND PRICING:  SINGLE RACES $35 EACH, TWO RACES (
 $60), THREE RACES ($80), OR A PACKAGE OF FOUR RACES ($100)\r\n*Discoun
 ted Racing Packages are by person & can't be shared by a group\r\n**HE
 LMET RENTAL IS NO CHARGE, BUT PURCHASE OF A $3 HEAD SOCK IS MANDATORY 
 IF YOU DO NOT HAVE YOUR OWN\r\n**WAIVERS MUST BE SIGNED ONSITE PRIOR T
 O ENTERING THE PADDOCK AREA\r\n**Minimum Karting age is 16 & requires 
 both parents onsite to sign a liability waiver.  If both parents are 
 not on-site, a notarized waiver signed by both parents is required for
  anyone under 18.\r\nCLICK HERE TO DOWNLOAD THE MINOR WAIVER FOR PRIN
 TING AT HOME.\r\n\r\n\n\nFor more information visit https://www.southe
 astwheelsevents.com/events/ultimate-karting-experience-caffeine-octane
 -lanier-raceway-brasel
DTSTART;TZID=Pacific/Midway:20220709T150000
DTEND;TZID=Pacific/Midway:20220709T220000
CATEGORIES:racing, drift, car, show, festival
LOCATION:Caffeine anf Octane Raceplex
WEBSITE:https://shop.caffeineandoctane.com/collections/tickets/product
 s/friday-night-cruise-in
URL:https://shop.caffeineandoctane.com/collections/tickets/products/fr
 iday-night-cruise-in
CONTACT:info@highoctaneevents.com
ORGANIZER:High Octane Events, LLC dba/Caffeine and Octane.
ATTACH;FMTTYPE="image/jpeg":https://storage.ning.com/topology/rest/1.0
 /file/get/10630842287?profile=original
ATTENDEE;ROLE=REQ-PARTICIPANT;PARTSTAT=ACCEPTED;RSVP=TRUE;CN="Chuck Aa
 ron":https://www.southeastwheelsevents.com/profile/ChuckAaron886
END:VEVENT
END:VCALENDAR
