BEGIN:VCALENDAR
PRODID:NingEventWidget-v1
VERSION:2.0
METHOD:PUBLISH
BEGIN:VTIMEZONE
TZID:Pacific/Midway
X-LIC-LOCATION:Pacific/Midway
BEGIN:STANDARD
TZOFFSETFROM:-1100
TZOFFSETTO:-1100
TZNAME:SST
DTSTART:19700101T000000
END:STANDARD
END:VTIMEZONE
BEGIN:VEVENT
UID:5072275:Event:1099402
DTSTAMP:20260423T230851Z
SUMMARY:Uncle Bill's Fall Car, Truck Show - Whittier, Nc
DESCRIPTION:Uncle Bill's Fall Car, Truck Show and  Swap Meet, 5427 Hw
 y 74\n\nFor more information visit https://www.southeastwheelsevents.c
 om/events/uncle-bill-s-fall-car-truck-show-whittier-nc
DTSTART;TZID=Pacific/Midway:20180923T090000
DTEND;TZID=Pacific/Midway:20180923T150000
CATEGORIES:car, show, cruise, in
LOCATION:Uncle Bill's Flea Market,
WEBSITE:https://www.google.com/maps/place/5427+US-74,+Whittier,+NC+287
 89,+USA/@35.3924907,-83.2968824,17z/data=!4m13!1m7!3m6!1s0x88594088912
 43c2b:0x6fc613436115e27f!2s5427+US-74,+Whittier,+NC+28789,+USA!3b1!8m2
 !3d35.3918564!4d-83.2970293!3m4!1s0x8859408891243c2b:0x6fc613436115e27
 f!8m2!3d35.3918564!4d-83.2970293
URL:https://www.google.com/maps/place/5427+US-74,+Whittier,+NC+28789,+
 USA/@35.3924907,-83.2968824,17z/data=!4m13!1m7!3m6!1s0x8859408891243c2
 b:0x6fc613436115e27f!2s5427+US-74,+Whittier,+NC+28789,+USA!3b1!8m2!3d3
 5.3918564!4d-83.2970293!3m4!1s0x8859408891243c2b:0x6fc613436115e27f!8m
 2!3d35.3918564!4d-83.2970293
CONTACT:(828) 506-2443
ORGANIZER:Tammy Mowery
ATTACH;FMTTYPE="image/jpeg":http://storage.ning.com/topology/rest/1.0/
 file/get/967793269?profile=original
ATTENDEE;ROLE=REQ-PARTICIPANT;PARTSTAT=ACCEPTED;RSVP=TRUE;CN="Anthony 
 Hopkins":https://www.southeastwheelsevents.com/profile/AnthonyHopkins
END:VEVENT
END:VCALENDAR
