BEGIN:VCALENDAR
PRODID:NingEventWidget-v1
VERSION:2.0
METHOD:PUBLISH
BEGIN:VTIMEZONE
TZID:Pacific/Midway
X-LIC-LOCATION:Pacific/Midway
BEGIN:STANDARD
TZOFFSETFROM:-1100
TZOFFSETTO:-1100
TZNAME:SST
DTSTART:19700101T000000
END:STANDARD
END:VTIMEZONE
BEGIN:VEVENT
UID:5072275:Event:928911
DTSTAMP:20260422T231526Z
SUMMARY:Uniquely Union Festival Car & Bike Show 2015 -Union, SC
DESCRIPTION:ALL VEHICLES ARE WELCOME, REGISTRATION IS DONATION, WITH A
 WARDS @ 3:30, THIS IS A JUDGED SHOW WITH A TOP 20, 5 SPECIALTY AWARDS 
 AND BEST OF SHOW, ALSO DASH PLAQUES FOR FIRST 25 REGISTERED, WITH FOOD
 , DOOR PRIZES, 50/50, RAFFLES, MUSIC, FOR MORE INFO CALL 864 497-3016 
 PROCEEDS GO TO TOYS FOR TOTS. HOSTED BY THE STANG CLUB OF S.C\n\nFor m
 ore information visit https://www.southeastwheelsevents.com/events/uni
 quely-union-festival-car-bike-show-2015
DTSTART;TZID=Pacific/Midway:20150912T090000
DTEND;TZID=Pacific/Midway:20150912T150000
CATEGORIES:car-show, festival
LOCATION:Union SC
WEBSITE:https://www.google.com/maps/place/373+E+Main+St,+Union,+SC+293
 79/@34.7155293,-81.6203367,17z/data=!3m1!4b1!4m2!3m1!1s0x8857b1998e2fb
 e41:0xa27b08374c55532d
URL:https://www.google.com/maps/place/373+E+Main+St,+Union,+SC+29379/@
 34.7155293,-81.6203367,17z/data=!3m1!4b1!4m2!3m1!1s0x8857b1998e2fbe41:
 0xa27b08374c55532d
CONTACT:864-497-0564
ORGANIZER:Union County Tourism-Stang Club-The Southern Legend Bike Clu
 b
ATTACH;FMTTYPE="image/jpeg":http://storage.ning.com/topology/rest/1.0/
 file/get/967695606?profile=original
ATTENDEE;ROLE=REQ-PARTICIPANT;PARTSTAT=ACCEPTED;RSVP=TRUE;CN="Melody P
 orter":https://www.southeastwheelsevents.com/profile/MelodyPorter
END:VEVENT
END:VCALENDAR
