BEGIN:VCALENDAR
PRODID:NingEventWidget-v1
VERSION:2.0
METHOD:PUBLISH
BEGIN:VTIMEZONE
TZID:Pacific/Midway
X-LIC-LOCATION:Pacific/Midway
BEGIN:STANDARD
TZOFFSETFROM:-1100
TZOFFSETTO:-1100
TZNAME:SST
DTSTART:19700101T000000
END:STANDARD
END:VTIMEZONE
BEGIN:VEVENT
UID:5072275:Event:10224
DTSTAMP:20260421T222724Z
SUMMARY:Upstate SC Car Show & Sound Off -Laurens, SC
DESCRIPTION:Upstate South Carolina Car Show & Sound Off\n\nFor more in
 formation visit https://www.southeastwheelsevents.com/events/upstate-s
 c-car-show-sound-off
DTSTART;TZID=Pacific/Midway:20100328T100000
DTEND;TZID=Pacific/Midway:20100328T140000
CATEGORIES:car-show, sound-off
LOCATION:Advance Auto Parts
WEBSITE:http://www.kossmotorsports.com
URL:http://www.kossmotorsports.com
CONTACT:Steve Koss 803-320-3193
ORGANIZER:Steve Koss
ATTACH;FMTTYPE="image/jpeg":
ATTENDEE;ROLE=REQ-PARTICIPANT;PARTSTAT=ACCEPTED;RSVP=TRUE;CN="Michael 
 Thies":https://www.southeastwheelsevents.com/profile/MichaelThies
END:VEVENT
END:VCALENDAR
