BEGIN:VCALENDAR
PRODID:NingEventWidget-v1
VERSION:2.0
METHOD:PUBLISH
BEGIN:VTIMEZONE
TZID:Pacific/Midway
X-LIC-LOCATION:Pacific/Midway
BEGIN:STANDARD
TZOFFSETFROM:-1100
TZOFFSETTO:-1100
TZNAME:SST
DTSTART:19700101T000000
END:STANDARD
END:VTIMEZONE
BEGIN:VEVENT
UID:5072275:Event:1041073
DTSTAMP:20260423T154636Z
SUMMARY:V8 Extravaganza
DESCRIPTION:Super Street, Thunder Sportsman, Renegades, SECA 602 OWM, 
 Pure Street, Thunder Bombers, Vintage, and a Demolition Derby.\n\nFor 
 more information visit https://www.southeastwheelsevents.com/events/v8
 -extravaganza
DTSTART;TZID=Pacific/Midway:20170526T000000
DTEND;TZID=Pacific/Midway:20170526T235900
CATEGORIES:race
LOCATION:Carolina Speedway
WEBSITE:http://www.carolinaspeedway.net/
URL:http://www.carolinaspeedway.net/
CONTACT:7048690313
ORGANIZER:
ATTACH;FMTTYPE="image/jpeg":http://storage.ning.com/topology/rest/1.0/
 file/get/967738109?profile=original
ATTENDEE;ROLE=REQ-PARTICIPANT;PARTSTAT=ACCEPTED;RSVP=TRUE;CN="Christop
 her Gosney":https://www.southeastwheelsevents.com/profile/ChristopherG
 osney
END:VEVENT
END:VCALENDAR
