BEGIN:VCALENDAR
PRODID:NingEventWidget-v1
VERSION:2.0
METHOD:PUBLISH
BEGIN:VTIMEZONE
TZID:Pacific/Midway
X-LIC-LOCATION:Pacific/Midway
BEGIN:STANDARD
TZOFFSETFROM:-1100
TZOFFSETTO:-1100
TZNAME:SST
DTSTART:19700101T000000
END:STANDARD
END:VTIMEZONE
BEGIN:VEVENT
UID:5072275:Event:835284
DTSTAMP:20260423T081220Z
SUMMARY:\"Vairs\" At The Fair -Perry, GA
DESCRIPTION:\"Vairs\" At The Fair -Perry, GA\r\nAll Corvair show & Swa
 p Meet at the Fairgrounds Info: Lillian Law 229-883-3123\n\nFor more
  information visit https://www.southeastwheelsevents.com/events/vairs-
 at-the-fair-perry-ga
DTSTART;TZID=Pacific/Midway:20241004T000000
DTEND;TZID=Pacific/Midway:20241005T235900
CATEGORIES:car-show, swap-meet
LOCATION:GA National Fairgrounds
WEBSITE:
URL:
CONTACT:229-883-4123
ORGANIZER:Lillian Law
ATTACH;FMTTYPE="image/jpeg":http://storage.ning.com/topology/rest/1.0/
 file/get/967576187?profile=original
ATTENDEE;ROLE=REQ-PARTICIPANT;PARTSTAT=ACCEPTED;RSVP=TRUE;CN="Chuck Aa
 ron":https://www.southeastwheelsevents.com/profile/ChuckAaron
END:VEVENT
END:VCALENDAR
